BEGIN:VCALENDAR
VERSION:2.0
PRODID:-//St Ninian&#039;s Church Stonehouse LEP - ECPv6.15.18//NONSGML v1.0//EN
CALSCALE:GREGORIAN
METHOD:PUBLISH
X-WR-CALNAME:St Ninian&#039;s Church Stonehouse LEP
X-ORIGINAL-URL:https://www.st-ninians-stonehouse.org.uk
X-WR-CALDESC:Events for St Ninian&#039;s Church Stonehouse LEP
REFRESH-INTERVAL;VALUE=DURATION:PT1H
X-Robots-Tag:noindex
X-PUBLISHED-TTL:PT1H
BEGIN:VTIMEZONE
TZID:Europe/London
BEGIN:DAYLIGHT
TZOFFSETFROM:+0000
TZOFFSETTO:+0100
TZNAME:BST
DTSTART:20210328T010000
END:DAYLIGHT
BEGIN:STANDARD
TZOFFSETFROM:+0100
TZOFFSETTO:+0000
TZNAME:GMT
DTSTART:20211031T010000
END:STANDARD
BEGIN:DAYLIGHT
TZOFFSETFROM:+0000
TZOFFSETTO:+0100
TZNAME:BST
DTSTART:20220327T010000
END:DAYLIGHT
BEGIN:STANDARD
TZOFFSETFROM:+0100
TZOFFSETTO:+0000
TZNAME:GMT
DTSTART:20221030T010000
END:STANDARD
BEGIN:DAYLIGHT
TZOFFSETFROM:+0000
TZOFFSETTO:+0100
TZNAME:BST
DTSTART:20230326T010000
END:DAYLIGHT
BEGIN:STANDARD
TZOFFSETFROM:+0100
TZOFFSETTO:+0000
TZNAME:GMT
DTSTART:20231029T010000
END:STANDARD
END:VTIMEZONE
BEGIN:VEVENT
DTSTART;TZID=Europe/London:20221222T193000
DTEND;TZID=Europe/London:20221222T210000
DTSTAMP:20260423T130047
CREATED:20221119T162659Z
LAST-MODIFIED:20221119T162659Z
UID:10000395-1671737400-1671742800@www.st-ninians-stonehouse.org.uk
SUMMARY:Advent Study
DESCRIPTION:An advent Bible study \nMeeting ID: 899 9544 2909 \nPasscode: 482693
URL:https://www.st-ninians-stonehouse.org.uk/event/advent-study-4
CATEGORIES:Bible Study
ATTACH;FMTTYPE=image/png:https://www.st-ninians-stonehouse.org.uk/wp-content/uploads/2022/11/advent-study-2022.png
END:VEVENT
BEGIN:VEVENT
DTSTART;TZID=Europe/London:20221223T183000
DTEND;TZID=Europe/London:20221223T200000
DTSTAMP:20260423T130047
CREATED:20221108T115128Z
LAST-MODIFIED:20221108T115128Z
UID:10000391-1671820200-1671825600@www.st-ninians-stonehouse.org.uk
SUMMARY:Santa's Bedtime Story
DESCRIPTION:A very special evening with Santa as he tells us a cracking Christmas bedtime story followed by hot chocolate and cookies!
URL:https://www.st-ninians-stonehouse.org.uk/event/santas-bedtime-story-2
LOCATION:St Ninian’s Church\, 10 Vicars Road\, Stonehouse\, ML9 3EB\, United Kingdom
CATEGORIES:Christmas,Family
ATTACH;FMTTYPE=image/png:https://www.st-ninians-stonehouse.org.uk/wp-content/uploads/2022/11/Santas-bedtime-Storr-2022-FB-event-purple.png
END:VEVENT
BEGIN:VEVENT
DTSTART;TZID=Europe/London:20221224T190000
DTEND;TZID=Europe/London:20221224T200000
DTSTAMP:20260423T130047
CREATED:20221220T194959Z
LAST-MODIFIED:20221220T194959Z
UID:10000397-1671908400-1671912000@www.st-ninians-stonehouse.org.uk
SUMMARY:Christmas Eve All Age Service
DESCRIPTION:Join Coalburn Silver Band for a fantastic Christmas service with carols\, stories and even a visit from Santa!!!
URL:https://www.st-ninians-stonehouse.org.uk/event/christmas-eve-all-age-service
LOCATION:St Ninian’s Church\, 10 Vicars Road\, Stonehouse\, ML9 3EB\, United Kingdom
CATEGORIES:Christmas
ATTACH;FMTTYPE=image/png:https://www.st-ninians-stonehouse.org.uk/wp-content/uploads/2022/12/Christmas-Eve-2.png
END:VEVENT
BEGIN:VEVENT
DTSTART;TZID=Europe/London:20221224T231500
DTEND;TZID=Europe/London:20221225T001000
DTSTAMP:20260423T130047
CREATED:20221220T195309Z
LAST-MODIFIED:20221220T195423Z
UID:10000398-1671923700-1671927000@www.st-ninians-stonehouse.org.uk
SUMMARY:Watchnight
DESCRIPTION:We wait together for the midnight hour for Christmas to arrive to welcome the birth of Jesus.
URL:https://www.st-ninians-stonehouse.org.uk/event/watchnight-2
LOCATION:St Ninian’s Church\, 10 Vicars Road\, Stonehouse\, ML9 3EB\, United Kingdom
CATEGORIES:Christmas
ATTACH;FMTTYPE=image/png:https://www.st-ninians-stonehouse.org.uk/wp-content/uploads/2022/12/watchnight-2022.png
END:VEVENT
END:VCALENDAR