BEGIN:VCALENDAR
VERSION:2.0
PRODID:-//St Ninian&#039;s Church Stonehouse LEP - ECPv6.15.18//NONSGML v1.0//EN
CALSCALE:GREGORIAN
METHOD:PUBLISH
X-ORIGINAL-URL:https://www.st-ninians-stonehouse.org.uk
X-WR-CALDESC:Events for St Ninian&#039;s Church Stonehouse LEP
REFRESH-INTERVAL;VALUE=DURATION:PT1H
X-Robots-Tag:noindex
X-PUBLISHED-TTL:PT1H
BEGIN:VTIMEZONE
TZID:Europe/London
BEGIN:DAYLIGHT
TZOFFSETFROM:+0000
TZOFFSETTO:+0100
TZNAME:BST
DTSTART:20210328T010000
END:DAYLIGHT
BEGIN:STANDARD
TZOFFSETFROM:+0100
TZOFFSETTO:+0000
TZNAME:GMT
DTSTART:20211031T010000
END:STANDARD
BEGIN:DAYLIGHT
TZOFFSETFROM:+0000
TZOFFSETTO:+0100
TZNAME:BST
DTSTART:20220327T010000
END:DAYLIGHT
BEGIN:STANDARD
TZOFFSETFROM:+0100
TZOFFSETTO:+0000
TZNAME:GMT
DTSTART:20221030T010000
END:STANDARD
BEGIN:DAYLIGHT
TZOFFSETFROM:+0000
TZOFFSETTO:+0100
TZNAME:BST
DTSTART:20230326T010000
END:DAYLIGHT
BEGIN:STANDARD
TZOFFSETFROM:+0100
TZOFFSETTO:+0000
TZNAME:GMT
DTSTART:20231029T010000
END:STANDARD
END:VTIMEZONE
BEGIN:VEVENT
DTSTART;TZID=Europe/London:20220228T190000
DTEND;TZID=Europe/London:20220228T210000
DTSTAMP:20260420T164115
CREATED:20220223T123004Z
LAST-MODIFIED:20220223T141219Z
UID:10000315-1646074800-1646082000@www.st-ninians-stonehouse.org.uk
SUMMARY:Kirk Session
DESCRIPTION:We meet at St Ninian’s Church to discuss the Presbytery Mission Plan
URL:https://www.st-ninians-stonehouse.org.uk/event/kirk-session-2
LOCATION:St Ninian’s Church\, 10 Vicars Road\, Stonehouse\, ML9 3EB\, United Kingdom
CATEGORIES:Kirk Session
ATTACH;FMTTYPE=image/jpeg:https://www.st-ninians-stonehouse.org.uk/wp-content/uploads/2022/02/kirk-session-28-Feb-Video.jpg
END:VEVENT
BEGIN:VEVENT
DTSTART;TZID=Europe/London:20220301T093000
DTEND;TZID=Europe/London:20220301T103000
DTSTAMP:20260420T164115
CREATED:20220223T145710Z
LAST-MODIFIED:20220223T145710Z
UID:10000342-1646127000-1646130600@www.st-ninians-stonehouse.org.uk
SUMMARY:Morning Prayer
DESCRIPTION:A short time of worship on zoom to start the day. \nMeeting ID: 158 821 191 \nPasscode: 048974
URL:https://www.st-ninians-stonehouse.org.uk/event/morning-prayer-6
LOCATION:St Ninian’s Church\, 10 Vicars Road\, Stonehouse\, ML9 3EB\, United Kingdom
CATEGORIES:worship
ATTACH;FMTTYPE=image/jpeg:https://www.st-ninians-stonehouse.org.uk/wp-content/uploads/2022/02/morning-prayer-zoom-Video.jpg
END:VEVENT
BEGIN:VEVENT
DTSTART;TZID=Europe/London:20220301T150000
DTEND;TZID=Europe/London:20220301T210000
DTSTAMP:20260420T164115
CREATED:20220223T134231Z
LAST-MODIFIED:20220223T134231Z
UID:10000321-1646146800-1646168400@www.st-ninians-stonehouse.org.uk
SUMMARY:Girls Brigade
DESCRIPTION:All sections now on! \n3 – 4pm Explorers\, 5:30 – 7pm Juniors and 7:30pm – 9pm Brigaders
URL:https://www.st-ninians-stonehouse.org.uk/event/girls-brigade
LOCATION:St Ninian’s Church\, 10 Vicars Road\, Stonehouse\, ML9 3EB\, United Kingdom
CATEGORIES:Girls Brigade
ATTACH;FMTTYPE=image/jpeg:https://www.st-ninians-stonehouse.org.uk/wp-content/uploads/2022/02/Girls-Brigade-Video.jpg
END:VEVENT
BEGIN:VEVENT
DTSTART;TZID=Europe/London:20220302T140000
DTEND;TZID=Europe/London:20220302T153000
DTSTAMP:20260420T164115
CREATED:20220228T165842Z
LAST-MODIFIED:20220228T170250Z
UID:10000353-1646229600-1646235000@www.st-ninians-stonehouse.org.uk
SUMMARY:Prayers for Peace
DESCRIPTION:Join with us to pray for peace in Ukraine. Drop in anytime between 2pm – 3.30pm. If you can’t join us in person then add you prayers to the prayer wall.
URL:https://www.st-ninians-stonehouse.org.uk/event/prayers-for-peace-2
LOCATION:St Ninian’s Church\, 10 Vicars Road\, Stonehouse\, ML9 3EB\, United Kingdom
CATEGORIES:Prayer
ATTACH;FMTTYPE=image/png:https://www.st-ninians-stonehouse.org.uk/wp-content/uploads/2022/02/prayer-for-peace-Video.png
END:VEVENT
BEGIN:VEVENT
DTSTART;TZID=Europe/London:20220302T180000
DTEND;TZID=Europe/London:20220302T213000
DTSTAMP:20260420T164115
CREATED:20220223T135258Z
LAST-MODIFIED:20220223T135258Z
UID:10000327-1646244000-1646256600@www.st-ninians-stonehouse.org.uk
SUMMARY:boys brigade
DESCRIPTION:All sections are now on! Anchor Boys (P1 – P3) – 6pm; Junior Section (P4 – P6) – 6:45pm ; Company Section (P7 – S6) – 8pm
URL:https://www.st-ninians-stonehouse.org.uk/event/boys-brigade-2
LOCATION:St Ninian’s Church\, 10 Vicars Road\, Stonehouse\, ML9 3EB\, United Kingdom
CATEGORIES:boys brigade
ATTACH;FMTTYPE=image/jpeg:https://www.st-ninians-stonehouse.org.uk/wp-content/uploads/2022/02/1st-StonehouseBoys-Brigade-Video.jpg
END:VEVENT
BEGIN:VEVENT
DTSTART;TZID=Europe/London:20220303T093000
DTEND;TZID=Europe/London:20220303T103000
DTSTAMP:20260420T164115
CREATED:20220223T145852Z
LAST-MODIFIED:20220223T145852Z
UID:10000343-1646299800-1646303400@www.st-ninians-stonehouse.org.uk
SUMMARY:Morning Prayer
DESCRIPTION:A short time of worship on zoom to start the day. \nMeeting ID: 158 821 191 \nPasscode: 048974
URL:https://www.st-ninians-stonehouse.org.uk/event/morning-prayer-7
LOCATION:St Ninian’s Church\, 10 Vicars Road\, Stonehouse\, ML9 3EB\, United Kingdom
CATEGORIES:worship
ATTACH;FMTTYPE=image/jpeg:https://www.st-ninians-stonehouse.org.uk/wp-content/uploads/2022/02/morning-prayer-zoom-Video.jpg
END:VEVENT
BEGIN:VEVENT
DTSTART;TZID=Europe/London:20220303T193000
DTEND;TZID=Europe/London:20220303T210000
DTSTAMP:20260420T164115
CREATED:20220223T141020Z
LAST-MODIFIED:20220223T151829Z
UID:10000333-1646335800-1646341200@www.st-ninians-stonehouse.org.uk
SUMMARY:Digging Deeper Bible Study
DESCRIPTION:Our weekly dig into the bible every Thursday evening on Zoom \nMeeting ID: 899 9544 2909 \nPasscode: 482693
URL:https://www.st-ninians-stonehouse.org.uk/event/digging-deeper-bible-study-2
LOCATION:St Ninian’s Church\, 10 Vicars Road\, Stonehouse\, ML9 3EB\, United Kingdom
CATEGORIES:Bible Study
ATTACH;FMTTYPE=image/png:https://www.st-ninians-stonehouse.org.uk/wp-content/uploads/2022/02/bible-study-4.png
END:VEVENT
BEGIN:VEVENT
DTSTART;TZID=Europe/London:20220304T110000
DTEND;TZID=Europe/London:20220304T123000
DTSTAMP:20260420T164115
CREATED:20220223T133743Z
LAST-MODIFIED:20220223T133743Z
UID:10000320-1646391600-1646397000@www.st-ninians-stonehouse.org.uk
SUMMARY:elevenses - world day of prayer
DESCRIPTION:We join with Christians around the world as we celebrate the World Day of Prayer and some tea and cake!  Tickets for the tea and cake are £2.00 with proceeds going to support World Day of Prayer.
URL:https://www.st-ninians-stonehouse.org.uk/event/elevenses-world-day-of-prayer-2
LOCATION:St Ninian’s Church\, 10 Vicars Road\, Stonehouse\, ML9 3EB\, United Kingdom
CATEGORIES:coffee morning,worship
ATTACH;FMTTYPE=image/jpeg:https://www.st-ninians-stonehouse.org.uk/wp-content/uploads/2022/02/elevensies-Video.jpg
END:VEVENT
BEGIN:VEVENT
DTSTART;TZID=Europe/London:20220306T110000
DTEND;TZID=Europe/London:20220306T120000
DTSTAMP:20260420T164115
CREATED:20220223T133202Z
LAST-MODIFIED:20220223T133202Z
UID:10000318-1646564400-1646568000@www.st-ninians-stonehouse.org.uk
SUMMARY:Sunday Service
DESCRIPTION:Join us at St Ninian’s for our weekly Sunday worship gathering.
URL:https://www.st-ninians-stonehouse.org.uk/event/sunday-service-15
LOCATION:St Ninian’s Church\, 10 Vicars Road\, Stonehouse\, ML9 3EB\, United Kingdom
CATEGORIES:worship
ATTACH;FMTTYPE=image/png:https://www.st-ninians-stonehouse.org.uk/wp-content/uploads/2022/01/Sunday-Service.png
END:VEVENT
END:VCALENDAR