BEGIN:VCALENDAR
VERSION:2.0
PRODID:-//St Ninian&#039;s Church Stonehouse LEP - ECPv6.15.18//NONSGML v1.0//EN
CALSCALE:GREGORIAN
METHOD:PUBLISH
X-WR-CALNAME:St Ninian&#039;s Church Stonehouse LEP
X-ORIGINAL-URL:https://www.st-ninians-stonehouse.org.uk
X-WR-CALDESC:Events for St Ninian&#039;s Church Stonehouse LEP
REFRESH-INTERVAL;VALUE=DURATION:PT1H
X-Robots-Tag:noindex
X-PUBLISHED-TTL:PT1H
BEGIN:VTIMEZONE
TZID:Europe/London
BEGIN:DAYLIGHT
TZOFFSETFROM:+0000
TZOFFSETTO:+0100
TZNAME:BST
DTSTART:20230326T010000
END:DAYLIGHT
BEGIN:STANDARD
TZOFFSETFROM:+0100
TZOFFSETTO:+0000
TZNAME:GMT
DTSTART:20231029T010000
END:STANDARD
BEGIN:DAYLIGHT
TZOFFSETFROM:+0000
TZOFFSETTO:+0100
TZNAME:BST
DTSTART:20240331T010000
END:DAYLIGHT
BEGIN:STANDARD
TZOFFSETFROM:+0100
TZOFFSETTO:+0000
TZNAME:GMT
DTSTART:20241027T010000
END:STANDARD
BEGIN:DAYLIGHT
TZOFFSETFROM:+0000
TZOFFSETTO:+0100
TZNAME:BST
DTSTART:20250330T010000
END:DAYLIGHT
BEGIN:STANDARD
TZOFFSETFROM:+0100
TZOFFSETTO:+0000
TZNAME:GMT
DTSTART:20251026T010000
END:STANDARD
END:VTIMEZONE
BEGIN:VEVENT
DTSTART;TZID=Europe/London:20240526T130000
DTEND;TZID=Europe/London:20240526T143000
DTSTAMP:20260424T014925
CREATED:20230805T143446Z
LAST-MODIFIED:20230805T143446Z
UID:10000980-1716728400-1716733800@www.st-ninians-stonehouse.org.uk
SUMMARY:Food Bank
DESCRIPTION:Our foodbank is open for donations every Sunday from 1-2:30pm. You can also collect food. If you need food during the week then pop down to The Pantry at Old Stonehouse Cafe at the Cross.
URL:https://www.st-ninians-stonehouse.org.uk/event/food-bank/2024-05-26
LOCATION:St Ninian’s Church\, 10 Vicars Road\, Stonehouse\, ML9 3EB\, United Kingdom
CATEGORIES:foodbank
ATTACH;FMTTYPE=image/png:https://www.st-ninians-stonehouse.org.uk/wp-content/uploads/2022/01/foodbank-1-230.001.png
END:VEVENT
BEGIN:VEVENT
DTSTART;TZID=Europe/London:20240526T110000
DTEND;TZID=Europe/London:20240526T130000
DTSTAMP:20260424T014925
CREATED:20230805T142047Z
LAST-MODIFIED:20230805T142047Z
UID:10000441-1716721200-1716728400@www.st-ninians-stonehouse.org.uk
SUMMARY:Sunday Service
DESCRIPTION:Our Sunday Service is for everyone! We have a Sunday School and creche and lunch afterwards!
URL:https://www.st-ninians-stonehouse.org.uk/event/sunday-service-25/2024-05-26
LOCATION:St Ninian’s Church\, 10 Vicars Road\, Stonehouse\, ML9 3EB\, United Kingdom
CATEGORIES:worship
ATTACH;FMTTYPE=image/png:https://www.st-ninians-stonehouse.org.uk/wp-content/uploads/2022/01/Sunday-Service.png
END:VEVENT
BEGIN:VEVENT
DTSTART;TZID=Europe/London:20240526T094500
DTEND;TZID=Europe/London:20240526T120000
DTSTAMP:20260424T014925
CREATED:20230805T142314Z
LAST-MODIFIED:20230816T161421Z
UID:10000702-1716716700-1716724800@www.st-ninians-stonehouse.org.uk
SUMMARY:Choir
DESCRIPTION:Our choir meets most Sundays to rehearse and lead the singing in our Sunday Service.  They also perform a few times each year at special events and services.  Email for more information.
URL:https://www.st-ninians-stonehouse.org.uk/event/choir/2024-05-26
LOCATION:St Ninian’s Church\, 10 Vicars Road\, Stonehouse\, ML9 3EB\, United Kingdom
CATEGORIES:choir
END:VEVENT
BEGIN:VEVENT
DTSTART;TZID=Europe/London:20240525T100000
DTEND;TZID=Europe/London:20240525T120000
DTSTAMP:20260424T014925
CREATED:20240524T142119Z
LAST-MODIFIED:20240524T142119Z
UID:10003557-1716631200-1716638400@www.st-ninians-stonehouse.org.uk
SUMMARY:Congregational Conference
DESCRIPTION:A chance to get together and discover more about ourselves and about God
URL:https://www.st-ninians-stonehouse.org.uk/event/congregational-conference
LOCATION:St Ninian’s Church\, 10 Vicars Road\, Stonehouse\, ML9 3EB\, United Kingdom
CATEGORIES:community
ATTACH;FMTTYPE=image/png:https://www.st-ninians-stonehouse.org.uk/wp-content/uploads/2024/05/Congregational-Conf-YouTube-Thumbnail.png
END:VEVENT
BEGIN:VEVENT
DTSTART;TZID=Europe/London:20240524T193000
DTEND;TZID=Europe/London:20240524T223000
DTSTAMP:20260424T014925
CREATED:20240220T122414Z
LAST-MODIFIED:20240220T122556Z
UID:10003427-1716579000-1716589800@www.st-ninians-stonehouse.org.uk
SUMMARY:Folk Club
DESCRIPTION:Stonehouse Folk Club
URL:https://www.st-ninians-stonehouse.org.uk/event/folk-club-2/2024-05-24
LOCATION:St Ninian’s Church\, 10 Vicars Road\, Stonehouse\, ML9 3EB\, United Kingdom
CATEGORIES:Music
END:VEVENT
BEGIN:VEVENT
DTSTART;TZID=Europe/London:20240523T190000
DTEND;TZID=Europe/London:20240523T220000
DTSTAMP:20260424T014925
CREATED:20230816T103057Z
LAST-MODIFIED:20251229T164502Z
UID:10002882-1716490800-1716501600@www.st-ninians-stonehouse.org.uk
SUMMARY:Hope Cafe Too
DESCRIPTION:A Peer Support group facilitated by Jenna Hardwood of Lene on Me.
URL:https://www.st-ninians-stonehouse.org.uk/event/hope-cafe-too-5/2024-05-23
CATEGORIES:community,mental health
ATTACH;FMTTYPE=image/png:https://www.st-ninians-stonehouse.org.uk/wp-content/uploads/2023/08/Hope-Cafe-Video.png
END:VEVENT
BEGIN:VEVENT
DTSTART;TZID=Europe/London:20240523T190000
DTEND;TZID=Europe/London:20240523T220000
DTSTAMP:20260424T014925
CREATED:20230805T145751Z
LAST-MODIFIED:20250725T151554Z
UID:10001754-1716490800-1716501600@www.st-ninians-stonehouse.org.uk
SUMMARY:Burnbank Dog Club
DESCRIPTION:Obedience training for dogs.  Contact the club to find out more!
URL:https://www.st-ninians-stonehouse.org.uk/event/dog-club/2024-05-23
LOCATION:St Ninian’s Church\, 10 Vicars Road\, Stonehouse\, ML9 3EB\, United Kingdom
CATEGORIES:Dog Club
ATTACH;FMTTYPE=image/jpeg:https://www.st-ninians-stonehouse.org.uk/wp-content/uploads/2023/08/8390612_orig.jpg
END:VEVENT
BEGIN:VEVENT
DTSTART;TZID=Europe/London:20240523T093000
DTEND;TZID=Europe/London:20240523T100000
DTSTAMP:20260424T014925
CREATED:20230805T145350Z
LAST-MODIFIED:20251229T163548Z
UID:10001492-1716456600-1716458400@www.st-ninians-stonehouse.org.uk
SUMMARY:Morning Prayers
DESCRIPTION:We meet for Morning Prayers on Thursdays at St Ninian’s Church and we follow the short services from The Iona Community.
URL:https://www.st-ninians-stonehouse.org.uk/event/morning-prayers-25/2024-05-23
CATEGORIES:Prayer,worship
ATTACH;FMTTYPE=image/png:https://www.st-ninians-stonehouse.org.uk/wp-content/uploads/2023/08/morning-prayer-Thursday-Video.png
END:VEVENT
BEGIN:VEVENT
DTSTART;TZID=Europe/London:20240522T180000
DTEND;TZID=Europe/London:20240522T213000
DTSTAMP:20260424T014925
CREATED:20220223T153057Z
LAST-MODIFIED:20230813T134354Z
UID:10002281-1716400800-1716413400@www.st-ninians-stonehouse.org.uk
SUMMARY:Boys' Brigade
DESCRIPTION:Anchor Boys (P1 – P3) – 6pm – 7pm; Junior Section (P4 – P6) – 6:45pm – 8pm ; Company & Senior Sections (P7 – S6) – 8pm – 9:30pm
URL:https://www.st-ninians-stonehouse.org.uk/event/boys-brigade-6/2024-05-22
LOCATION:St Ninian’s Church\, 10 Vicars Road\, Stonehouse\, ML9 3EB\, United Kingdom
CATEGORIES:boys brigade
ATTACH;FMTTYPE=image/png:https://www.st-ninians-stonehouse.org.uk/wp-content/uploads/2022/02/1st-Stonehouse-Times-YouTube-Thumbnail.png
END:VEVENT
BEGIN:VEVENT
DTSTART;TZID=Europe/London:20240521T153000
DTEND;TZID=Europe/London:20240521T210000
DTSTAMP:20260424T014925
CREATED:20230813T144513Z
LAST-MODIFIED:20250725T151447Z
UID:10002358-1716305400-1716325200@www.st-ninians-stonehouse.org.uk
SUMMARY:Girls Brigade
DESCRIPTION:3 – 4pm Explorers (P1 – P3)\, \n5:30 – 7pm Juniors (P4 – P6) \nand 7:30pm – 9pm Brigaders (P7 – S6)
URL:https://www.st-ninians-stonehouse.org.uk/event/girls-brigade-6/2024-05-21
LOCATION:St Ninian’s Church\, 10 Vicars Road\, Stonehouse\, ML9 3EB\, United Kingdom
CATEGORIES:Girls Brigade
ATTACH;FMTTYPE=image/png:https://www.st-ninians-stonehouse.org.uk/wp-content/uploads/2023/08/Girls-Brigade-times-YouTube-Thumbnail.png
END:VEVENT
BEGIN:VEVENT
DTSTART;TZID=Europe/London:20240521T100000
DTEND;TZID=Europe/London:20240521T113000
DTSTAMP:20260424T014925
CREATED:20230813T144743Z
LAST-MODIFIED:20230813T152038Z
UID:10002617-1716285600-1716291000@www.st-ninians-stonehouse.org.uk
SUMMARY:Coffee Morning
DESCRIPTION:Coffee morning every Tuesday morning. £3.
URL:https://www.st-ninians-stonehouse.org.uk/event/coffee-morning-14/2024-05-21
CATEGORIES:coffee morning,community
ATTACH;FMTTYPE=image/png:https://www.st-ninians-stonehouse.org.uk/wp-content/uploads/2023/04/coffee-morning-Video-2.png
END:VEVENT
BEGIN:VEVENT
DTSTART;TZID=Europe/London:20240519T190000
DTEND;TZID=Europe/London:20240519T203000
DTSTAMP:20260424T014925
CREATED:20230813T145205Z
LAST-MODIFIED:20230916T105402Z
UID:10002847-1716145200-1716150600@www.st-ninians-stonehouse.org.uk
SUMMARY:3rd Sunday
DESCRIPTION:3rd Sunday is our Youth Group for anyone at secondary school.
URL:https://www.st-ninians-stonehouse.org.uk/event/3rd-sunday-2/2024-05-19
LOCATION:St Ninian’s Church\, 10 Vicars Road\, Stonehouse\, ML9 3EB\, United Kingdom
CATEGORIES:Youth
ATTACH;FMTTYPE=image/png:https://www.st-ninians-stonehouse.org.uk/wp-content/uploads/2023/04/3rd-sunday-Video.png
END:VEVENT
BEGIN:VEVENT
DTSTART;TZID=Europe/London:20240519T190000
DTEND;TZID=Europe/London:20240519T203000
DTSTAMP:20260424T014925
CREATED:20220902T154127Z
LAST-MODIFIED:20230805T143144Z
UID:10000936-1716145200-1716150600@www.st-ninians-stonehouse.org.uk
SUMMARY:3rd Sunday
DESCRIPTION:A new youth club for S1-S6 in St Ninian’s Church Hall. Games\, chats\, food…
URL:https://www.st-ninians-stonehouse.org.uk/event/3rd-sunday/2024-05-19
LOCATION:St Ninian’s Church\, 10 Vicars Road\, Stonehouse\, ML9 3EB\, United Kingdom
CATEGORIES:Youth
ATTACH;FMTTYPE=image/png:https://www.st-ninians-stonehouse.org.uk/wp-content/uploads/2022/09/3rd-sunday-Facebook-Event-Cover.png
END:VEVENT
BEGIN:VEVENT
DTSTART;TZID=Europe/London:20240519T140000
DTEND;TZID=Europe/London:20240519T180000
DTSTAMP:20260424T014925
CREATED:20230805T150007Z
LAST-MODIFIED:20250725T151939Z
UID:10002014-1716127200-1716141600@www.st-ninians-stonehouse.org.uk
SUMMARY:T.A.B.S.
DESCRIPTION:The Acting Bairns of Stonehouse is a musical theatre group for young people.
URL:https://www.st-ninians-stonehouse.org.uk/event/t-a-b-s/2024-05-19
LOCATION:St Ninian’s Church\, 10 Vicars Road\, Stonehouse\, ML9 3EB\, United Kingdom
CATEGORIES:Music,Youth
END:VEVENT
BEGIN:VEVENT
DTSTART;TZID=Europe/London:20240519T130000
DTEND;TZID=Europe/London:20240519T143000
DTSTAMP:20260424T014925
CREATED:20230805T143446Z
LAST-MODIFIED:20230805T143446Z
UID:10000979-1716123600-1716129000@www.st-ninians-stonehouse.org.uk
SUMMARY:Food Bank
DESCRIPTION:Our foodbank is open for donations every Sunday from 1-2:30pm. You can also collect food. If you need food during the week then pop down to The Pantry at Old Stonehouse Cafe at the Cross.
URL:https://www.st-ninians-stonehouse.org.uk/event/food-bank/2024-05-19
LOCATION:St Ninian’s Church\, 10 Vicars Road\, Stonehouse\, ML9 3EB\, United Kingdom
CATEGORIES:foodbank
ATTACH;FMTTYPE=image/png:https://www.st-ninians-stonehouse.org.uk/wp-content/uploads/2022/01/foodbank-1-230.001.png
END:VEVENT
BEGIN:VEVENT
DTSTART;TZID=Europe/London:20240519T110000
DTEND;TZID=Europe/London:20240519T130000
DTSTAMP:20260424T014925
CREATED:20230805T142047Z
LAST-MODIFIED:20230805T142047Z
UID:10000440-1716116400-1716123600@www.st-ninians-stonehouse.org.uk
SUMMARY:Sunday Service
DESCRIPTION:Our Sunday Service is for everyone! We have a Sunday School and creche and lunch afterwards!
URL:https://www.st-ninians-stonehouse.org.uk/event/sunday-service-25/2024-05-19
LOCATION:St Ninian’s Church\, 10 Vicars Road\, Stonehouse\, ML9 3EB\, United Kingdom
CATEGORIES:worship
ATTACH;FMTTYPE=image/png:https://www.st-ninians-stonehouse.org.uk/wp-content/uploads/2022/01/Sunday-Service.png
END:VEVENT
BEGIN:VEVENT
DTSTART;TZID=Europe/London:20240519T094500
DTEND;TZID=Europe/London:20240519T120000
DTSTAMP:20260424T014925
CREATED:20230805T142314Z
LAST-MODIFIED:20230816T161421Z
UID:10000701-1716111900-1716120000@www.st-ninians-stonehouse.org.uk
SUMMARY:Choir
DESCRIPTION:Our choir meets most Sundays to rehearse and lead the singing in our Sunday Service.  They also perform a few times each year at special events and services.  Email for more information.
URL:https://www.st-ninians-stonehouse.org.uk/event/choir/2024-05-19
LOCATION:St Ninian’s Church\, 10 Vicars Road\, Stonehouse\, ML9 3EB\, United Kingdom
CATEGORIES:choir
END:VEVENT
BEGIN:VEVENT
DTSTART;TZID=Europe/London:20240518T100000
DTEND;TZID=Europe/London:20240518T120000
DTSTAMP:20260424T014925
CREATED:20240514T095906Z
LAST-MODIFIED:20240514T095957Z
UID:10003556-1716026400-1716033600@www.st-ninians-stonehouse.org.uk
SUMMARY:Pancake Morning for Christian Aid
DESCRIPTION:Eat pancakes and help people!!! Pancake morning for Christian Aid this Saturday at St Ninian’s Church\, Vicars Road. £3 for adults £1 for kids.
URL:https://www.st-ninians-stonehouse.org.uk/event/pancake-morning-for-christian-aid
LOCATION:St Ninian’s Church\, 10 Vicars Road\, Stonehouse\, ML9 3EB\, United Kingdom
CATEGORIES:Christian Aid,coffee morning
ATTACH;FMTTYPE=image/png:https://www.st-ninians-stonehouse.org.uk/wp-content/uploads/2024/05/pancake-morning-18-May.png
END:VEVENT
BEGIN:VEVENT
DTSTART;TZID=Europe/London:20240516T190000
DTEND;TZID=Europe/London:20240516T220000
DTSTAMP:20260424T014925
CREATED:20230805T145751Z
LAST-MODIFIED:20250725T151554Z
UID:10001753-1715886000-1715896800@www.st-ninians-stonehouse.org.uk
SUMMARY:Burnbank Dog Club
DESCRIPTION:Obedience training for dogs.  Contact the club to find out more!
URL:https://www.st-ninians-stonehouse.org.uk/event/dog-club/2024-05-16
LOCATION:St Ninian’s Church\, 10 Vicars Road\, Stonehouse\, ML9 3EB\, United Kingdom
CATEGORIES:Dog Club
ATTACH;FMTTYPE=image/jpeg:https://www.st-ninians-stonehouse.org.uk/wp-content/uploads/2023/08/8390612_orig.jpg
END:VEVENT
BEGIN:VEVENT
DTSTART;TZID=Europe/London:20240516T093000
DTEND;TZID=Europe/London:20240516T100000
DTSTAMP:20260424T014925
CREATED:20230805T145350Z
LAST-MODIFIED:20251229T163548Z
UID:10001491-1715851800-1715853600@www.st-ninians-stonehouse.org.uk
SUMMARY:Morning Prayers
DESCRIPTION:We meet for Morning Prayers on Thursdays at St Ninian’s Church and we follow the short services from The Iona Community.
URL:https://www.st-ninians-stonehouse.org.uk/event/morning-prayers-25/2024-05-16
CATEGORIES:Prayer,worship
ATTACH;FMTTYPE=image/png:https://www.st-ninians-stonehouse.org.uk/wp-content/uploads/2023/08/morning-prayer-Thursday-Video.png
END:VEVENT
BEGIN:VEVENT
DTSTART;TZID=Europe/London:20240515T180000
DTEND;TZID=Europe/London:20240515T213000
DTSTAMP:20260424T014925
CREATED:20220223T153057Z
LAST-MODIFIED:20230813T134354Z
UID:10002280-1715796000-1715808600@www.st-ninians-stonehouse.org.uk
SUMMARY:Boys' Brigade
DESCRIPTION:Anchor Boys (P1 – P3) – 6pm – 7pm; Junior Section (P4 – P6) – 6:45pm – 8pm ; Company & Senior Sections (P7 – S6) – 8pm – 9:30pm
URL:https://www.st-ninians-stonehouse.org.uk/event/boys-brigade-6/2024-05-15
LOCATION:St Ninian’s Church\, 10 Vicars Road\, Stonehouse\, ML9 3EB\, United Kingdom
CATEGORIES:boys brigade
ATTACH;FMTTYPE=image/png:https://www.st-ninians-stonehouse.org.uk/wp-content/uploads/2022/02/1st-Stonehouse-Times-YouTube-Thumbnail.png
END:VEVENT
BEGIN:VEVENT
DTSTART;TZID=Europe/London:20240514T153000
DTEND;TZID=Europe/London:20240514T210000
DTSTAMP:20260424T014926
CREATED:20230813T144513Z
LAST-MODIFIED:20250725T151447Z
UID:10002357-1715700600-1715720400@www.st-ninians-stonehouse.org.uk
SUMMARY:Girls Brigade
DESCRIPTION:3 – 4pm Explorers (P1 – P3)\, \n5:30 – 7pm Juniors (P4 – P6) \nand 7:30pm – 9pm Brigaders (P7 – S6)
URL:https://www.st-ninians-stonehouse.org.uk/event/girls-brigade-6/2024-05-14
LOCATION:St Ninian’s Church\, 10 Vicars Road\, Stonehouse\, ML9 3EB\, United Kingdom
CATEGORIES:Girls Brigade
ATTACH;FMTTYPE=image/png:https://www.st-ninians-stonehouse.org.uk/wp-content/uploads/2023/08/Girls-Brigade-times-YouTube-Thumbnail.png
END:VEVENT
BEGIN:VEVENT
DTSTART;TZID=Europe/London:20240514T100000
DTEND;TZID=Europe/London:20240514T113000
DTSTAMP:20260424T014926
CREATED:20230813T144743Z
LAST-MODIFIED:20230813T152038Z
UID:10002616-1715680800-1715686200@www.st-ninians-stonehouse.org.uk
SUMMARY:Coffee Morning
DESCRIPTION:Coffee morning every Tuesday morning. £3.
URL:https://www.st-ninians-stonehouse.org.uk/event/coffee-morning-14/2024-05-14
CATEGORIES:coffee morning,community
ATTACH;FMTTYPE=image/png:https://www.st-ninians-stonehouse.org.uk/wp-content/uploads/2023/04/coffee-morning-Video-2.png
END:VEVENT
BEGIN:VEVENT
DTSTART;TZID=Europe/London:20240512T140000
DTEND;TZID=Europe/London:20240512T180000
DTSTAMP:20260424T014926
CREATED:20230805T150007Z
LAST-MODIFIED:20250725T151939Z
UID:10002013-1715522400-1715536800@www.st-ninians-stonehouse.org.uk
SUMMARY:T.A.B.S.
DESCRIPTION:The Acting Bairns of Stonehouse is a musical theatre group for young people.
URL:https://www.st-ninians-stonehouse.org.uk/event/t-a-b-s/2024-05-12
LOCATION:St Ninian’s Church\, 10 Vicars Road\, Stonehouse\, ML9 3EB\, United Kingdom
CATEGORIES:Music,Youth
END:VEVENT
BEGIN:VEVENT
DTSTART;TZID=Europe/London:20240512T130000
DTEND;TZID=Europe/London:20240512T143000
DTSTAMP:20260424T014926
CREATED:20230805T143446Z
LAST-MODIFIED:20230805T143446Z
UID:10000978-1715518800-1715524200@www.st-ninians-stonehouse.org.uk
SUMMARY:Food Bank
DESCRIPTION:Our foodbank is open for donations every Sunday from 1-2:30pm. You can also collect food. If you need food during the week then pop down to The Pantry at Old Stonehouse Cafe at the Cross.
URL:https://www.st-ninians-stonehouse.org.uk/event/food-bank/2024-05-12
LOCATION:St Ninian’s Church\, 10 Vicars Road\, Stonehouse\, ML9 3EB\, United Kingdom
CATEGORIES:foodbank
ATTACH;FMTTYPE=image/png:https://www.st-ninians-stonehouse.org.uk/wp-content/uploads/2022/01/foodbank-1-230.001.png
END:VEVENT
BEGIN:VEVENT
DTSTART;TZID=Europe/London:20240512T110000
DTEND;TZID=Europe/London:20240512T130000
DTSTAMP:20260424T014926
CREATED:20230805T142047Z
LAST-MODIFIED:20230805T142047Z
UID:10000439-1715511600-1715518800@www.st-ninians-stonehouse.org.uk
SUMMARY:Sunday Service
DESCRIPTION:Our Sunday Service is for everyone! We have a Sunday School and creche and lunch afterwards!
URL:https://www.st-ninians-stonehouse.org.uk/event/sunday-service-25/2024-05-12
LOCATION:St Ninian’s Church\, 10 Vicars Road\, Stonehouse\, ML9 3EB\, United Kingdom
CATEGORIES:worship
ATTACH;FMTTYPE=image/png:https://www.st-ninians-stonehouse.org.uk/wp-content/uploads/2022/01/Sunday-Service.png
END:VEVENT
BEGIN:VEVENT
DTSTART;TZID=Europe/London:20240512T094500
DTEND;TZID=Europe/London:20240512T120000
DTSTAMP:20260424T014926
CREATED:20230805T142314Z
LAST-MODIFIED:20230816T161421Z
UID:10000700-1715507100-1715515200@www.st-ninians-stonehouse.org.uk
SUMMARY:Choir
DESCRIPTION:Our choir meets most Sundays to rehearse and lead the singing in our Sunday Service.  They also perform a few times each year at special events and services.  Email for more information.
URL:https://www.st-ninians-stonehouse.org.uk/event/choir/2024-05-12
LOCATION:St Ninian’s Church\, 10 Vicars Road\, Stonehouse\, ML9 3EB\, United Kingdom
CATEGORIES:choir
END:VEVENT
BEGIN:VEVENT
DTSTART;TZID=Europe/London:20240511T100000
DTEND;TZID=Europe/London:20240511T140000
DTSTAMP:20260424T014926
CREATED:20231123T103631Z
LAST-MODIFIED:20231123T103631Z
UID:10003022-1715421600-1715436000@www.st-ninians-stonehouse.org.uk
SUMMARY:Spring Fayre
DESCRIPTION:Loads of brilliant local artisans with the very best in pottery\, jewellery\, gifts and our legendary home baking.
URL:https://www.st-ninians-stonehouse.org.uk/event/spring-fayre
LOCATION:St Ninian’s Church\, 10 Vicars Road\, Stonehouse\, ML9 3EB\, United Kingdom
CATEGORIES:craft fayre,Crafts,fund raiser
ATTACH;FMTTYPE=image/png:https://www.st-ninians-stonehouse.org.uk/wp-content/uploads/2023/11/Spring-fayre-24.png
END:VEVENT
BEGIN:VEVENT
DTSTART;TZID=Europe/London:20240510T193000
DTEND;TZID=Europe/London:20240510T223000
DTSTAMP:20260424T014926
CREATED:20240220T122519Z
LAST-MODIFIED:20240220T122519Z
UID:10003486-1715369400-1715380200@www.st-ninians-stonehouse.org.uk
SUMMARY:Folk Club
DESCRIPTION:Stonehouse Folk Club
URL:https://www.st-ninians-stonehouse.org.uk/event/folk-club-3/2024-05-10
LOCATION:St Ninian’s Church\, 10 Vicars Road\, Stonehouse\, ML9 3EB\, United Kingdom
CATEGORIES:Music
END:VEVENT
BEGIN:VEVENT
DTSTART;TZID=Europe/London:20240509T190000
DTEND;TZID=Europe/London:20240509T220000
DTSTAMP:20260424T014926
CREATED:20230816T103057Z
LAST-MODIFIED:20251229T164502Z
UID:10002881-1715281200-1715292000@www.st-ninians-stonehouse.org.uk
SUMMARY:Hope Cafe Too
DESCRIPTION:A Peer Support group facilitated by Jenna Hardwood of Lene on Me.
URL:https://www.st-ninians-stonehouse.org.uk/event/hope-cafe-too-5/2024-05-09
CATEGORIES:community,mental health
ATTACH;FMTTYPE=image/png:https://www.st-ninians-stonehouse.org.uk/wp-content/uploads/2023/08/Hope-Cafe-Video.png
END:VEVENT
END:VCALENDAR