BEGIN:VCALENDAR
VERSION:2.0
PRODID:-//St Ninian&#039;s Church Stonehouse LEP - ECPv6.15.18//NONSGML v1.0//EN
CALSCALE:GREGORIAN
METHOD:PUBLISH
X-WR-CALNAME:St Ninian&#039;s Church Stonehouse LEP
X-ORIGINAL-URL:https://www.st-ninians-stonehouse.org.uk
X-WR-CALDESC:Events for St Ninian&#039;s Church Stonehouse LEP
REFRESH-INTERVAL;VALUE=DURATION:PT1H
X-Robots-Tag:noindex
X-PUBLISHED-TTL:PT1H
BEGIN:VTIMEZONE
TZID:Europe/London
BEGIN:DAYLIGHT
TZOFFSETFROM:+0000
TZOFFSETTO:+0100
TZNAME:BST
DTSTART:20230326T010000
END:DAYLIGHT
BEGIN:STANDARD
TZOFFSETFROM:+0100
TZOFFSETTO:+0000
TZNAME:GMT
DTSTART:20231029T010000
END:STANDARD
BEGIN:DAYLIGHT
TZOFFSETFROM:+0000
TZOFFSETTO:+0100
TZNAME:BST
DTSTART:20240331T010000
END:DAYLIGHT
BEGIN:STANDARD
TZOFFSETFROM:+0100
TZOFFSETTO:+0000
TZNAME:GMT
DTSTART:20241027T010000
END:STANDARD
BEGIN:DAYLIGHT
TZOFFSETFROM:+0000
TZOFFSETTO:+0100
TZNAME:BST
DTSTART:20250330T010000
END:DAYLIGHT
BEGIN:STANDARD
TZOFFSETFROM:+0100
TZOFFSETTO:+0000
TZNAME:GMT
DTSTART:20251026T010000
END:STANDARD
END:VTIMEZONE
BEGIN:VEVENT
DTSTART;TZID=Europe/London:20240516T190000
DTEND;TZID=Europe/London:20240516T220000
DTSTAMP:20260424T051351
CREATED:20230805T145751Z
LAST-MODIFIED:20250725T151554Z
UID:10001753-1715886000-1715896800@www.st-ninians-stonehouse.org.uk
SUMMARY:Burnbank Dog Club
DESCRIPTION:Obedience training for dogs.  Contact the club to find out more!
URL:https://www.st-ninians-stonehouse.org.uk/event/dog-club/2024-05-16
LOCATION:St Ninian’s Church\, 10 Vicars Road\, Stonehouse\, ML9 3EB\, United Kingdom
CATEGORIES:Dog Club
ATTACH;FMTTYPE=image/jpeg:https://www.st-ninians-stonehouse.org.uk/wp-content/uploads/2023/08/8390612_orig.jpg
END:VEVENT
BEGIN:VEVENT
DTSTART;TZID=Europe/London:20240516T093000
DTEND;TZID=Europe/London:20240516T100000
DTSTAMP:20260424T051351
CREATED:20230805T145350Z
LAST-MODIFIED:20251229T163548Z
UID:10001491-1715851800-1715853600@www.st-ninians-stonehouse.org.uk
SUMMARY:Morning Prayers
DESCRIPTION:We meet for Morning Prayers on Thursdays at St Ninian’s Church and we follow the short services from The Iona Community.
URL:https://www.st-ninians-stonehouse.org.uk/event/morning-prayers-25/2024-05-16
CATEGORIES:Prayer,worship
ATTACH;FMTTYPE=image/png:https://www.st-ninians-stonehouse.org.uk/wp-content/uploads/2023/08/morning-prayer-Thursday-Video.png
END:VEVENT
BEGIN:VEVENT
DTSTART;TZID=Europe/London:20240515T180000
DTEND;TZID=Europe/London:20240515T213000
DTSTAMP:20260424T051351
CREATED:20220223T153057Z
LAST-MODIFIED:20230813T134354Z
UID:10002280-1715796000-1715808600@www.st-ninians-stonehouse.org.uk
SUMMARY:Boys' Brigade
DESCRIPTION:Anchor Boys (P1 – P3) – 6pm – 7pm; Junior Section (P4 – P6) – 6:45pm – 8pm ; Company & Senior Sections (P7 – S6) – 8pm – 9:30pm
URL:https://www.st-ninians-stonehouse.org.uk/event/boys-brigade-6/2024-05-15
LOCATION:St Ninian’s Church\, 10 Vicars Road\, Stonehouse\, ML9 3EB\, United Kingdom
CATEGORIES:boys brigade
ATTACH;FMTTYPE=image/png:https://www.st-ninians-stonehouse.org.uk/wp-content/uploads/2022/02/1st-Stonehouse-Times-YouTube-Thumbnail.png
END:VEVENT
BEGIN:VEVENT
DTSTART;TZID=Europe/London:20240514T153000
DTEND;TZID=Europe/London:20240514T210000
DTSTAMP:20260424T051351
CREATED:20230813T144513Z
LAST-MODIFIED:20250725T151447Z
UID:10002357-1715700600-1715720400@www.st-ninians-stonehouse.org.uk
SUMMARY:Girls Brigade
DESCRIPTION:3 – 4pm Explorers (P1 – P3)\, \n5:30 – 7pm Juniors (P4 – P6) \nand 7:30pm – 9pm Brigaders (P7 – S6)
URL:https://www.st-ninians-stonehouse.org.uk/event/girls-brigade-6/2024-05-14
LOCATION:St Ninian’s Church\, 10 Vicars Road\, Stonehouse\, ML9 3EB\, United Kingdom
CATEGORIES:Girls Brigade
ATTACH;FMTTYPE=image/png:https://www.st-ninians-stonehouse.org.uk/wp-content/uploads/2023/08/Girls-Brigade-times-YouTube-Thumbnail.png
END:VEVENT
BEGIN:VEVENT
DTSTART;TZID=Europe/London:20240514T100000
DTEND;TZID=Europe/London:20240514T113000
DTSTAMP:20260424T051351
CREATED:20230813T144743Z
LAST-MODIFIED:20230813T152038Z
UID:10002616-1715680800-1715686200@www.st-ninians-stonehouse.org.uk
SUMMARY:Coffee Morning
DESCRIPTION:Coffee morning every Tuesday morning. £3.
URL:https://www.st-ninians-stonehouse.org.uk/event/coffee-morning-14/2024-05-14
CATEGORIES:coffee morning,community
ATTACH;FMTTYPE=image/png:https://www.st-ninians-stonehouse.org.uk/wp-content/uploads/2023/04/coffee-morning-Video-2.png
END:VEVENT
BEGIN:VEVENT
DTSTART;TZID=Europe/London:20240512T140000
DTEND;TZID=Europe/London:20240512T180000
DTSTAMP:20260424T051351
CREATED:20230805T150007Z
LAST-MODIFIED:20250725T151939Z
UID:10002013-1715522400-1715536800@www.st-ninians-stonehouse.org.uk
SUMMARY:T.A.B.S.
DESCRIPTION:The Acting Bairns of Stonehouse is a musical theatre group for young people.
URL:https://www.st-ninians-stonehouse.org.uk/event/t-a-b-s/2024-05-12
LOCATION:St Ninian’s Church\, 10 Vicars Road\, Stonehouse\, ML9 3EB\, United Kingdom
CATEGORIES:Music,Youth
END:VEVENT
BEGIN:VEVENT
DTSTART;TZID=Europe/London:20240512T130000
DTEND;TZID=Europe/London:20240512T143000
DTSTAMP:20260424T051351
CREATED:20230805T143446Z
LAST-MODIFIED:20230805T143446Z
UID:10000978-1715518800-1715524200@www.st-ninians-stonehouse.org.uk
SUMMARY:Food Bank
DESCRIPTION:Our foodbank is open for donations every Sunday from 1-2:30pm. You can also collect food. If you need food during the week then pop down to The Pantry at Old Stonehouse Cafe at the Cross.
URL:https://www.st-ninians-stonehouse.org.uk/event/food-bank/2024-05-12
LOCATION:St Ninian’s Church\, 10 Vicars Road\, Stonehouse\, ML9 3EB\, United Kingdom
CATEGORIES:foodbank
ATTACH;FMTTYPE=image/png:https://www.st-ninians-stonehouse.org.uk/wp-content/uploads/2022/01/foodbank-1-230.001.png
END:VEVENT
BEGIN:VEVENT
DTSTART;TZID=Europe/London:20240512T110000
DTEND;TZID=Europe/London:20240512T130000
DTSTAMP:20260424T051352
CREATED:20230805T142047Z
LAST-MODIFIED:20230805T142047Z
UID:10000439-1715511600-1715518800@www.st-ninians-stonehouse.org.uk
SUMMARY:Sunday Service
DESCRIPTION:Our Sunday Service is for everyone! We have a Sunday School and creche and lunch afterwards!
URL:https://www.st-ninians-stonehouse.org.uk/event/sunday-service-25/2024-05-12
LOCATION:St Ninian’s Church\, 10 Vicars Road\, Stonehouse\, ML9 3EB\, United Kingdom
CATEGORIES:worship
ATTACH;FMTTYPE=image/png:https://www.st-ninians-stonehouse.org.uk/wp-content/uploads/2022/01/Sunday-Service.png
END:VEVENT
BEGIN:VEVENT
DTSTART;TZID=Europe/London:20240512T094500
DTEND;TZID=Europe/London:20240512T120000
DTSTAMP:20260424T051352
CREATED:20230805T142314Z
LAST-MODIFIED:20230816T161421Z
UID:10000700-1715507100-1715515200@www.st-ninians-stonehouse.org.uk
SUMMARY:Choir
DESCRIPTION:Our choir meets most Sundays to rehearse and lead the singing in our Sunday Service.  They also perform a few times each year at special events and services.  Email for more information.
URL:https://www.st-ninians-stonehouse.org.uk/event/choir/2024-05-12
LOCATION:St Ninian’s Church\, 10 Vicars Road\, Stonehouse\, ML9 3EB\, United Kingdom
CATEGORIES:choir
END:VEVENT
BEGIN:VEVENT
DTSTART;TZID=Europe/London:20240511T100000
DTEND;TZID=Europe/London:20240511T140000
DTSTAMP:20260424T051352
CREATED:20231123T103631Z
LAST-MODIFIED:20231123T103631Z
UID:10003022-1715421600-1715436000@www.st-ninians-stonehouse.org.uk
SUMMARY:Spring Fayre
DESCRIPTION:Loads of brilliant local artisans with the very best in pottery\, jewellery\, gifts and our legendary home baking.
URL:https://www.st-ninians-stonehouse.org.uk/event/spring-fayre
LOCATION:St Ninian’s Church\, 10 Vicars Road\, Stonehouse\, ML9 3EB\, United Kingdom
CATEGORIES:craft fayre,Crafts,fund raiser
ATTACH;FMTTYPE=image/png:https://www.st-ninians-stonehouse.org.uk/wp-content/uploads/2023/11/Spring-fayre-24.png
END:VEVENT
BEGIN:VEVENT
DTSTART;TZID=Europe/London:20240510T193000
DTEND;TZID=Europe/London:20240510T223000
DTSTAMP:20260424T051352
CREATED:20240220T122519Z
LAST-MODIFIED:20240220T122519Z
UID:10003486-1715369400-1715380200@www.st-ninians-stonehouse.org.uk
SUMMARY:Folk Club
DESCRIPTION:Stonehouse Folk Club
URL:https://www.st-ninians-stonehouse.org.uk/event/folk-club-3/2024-05-10
LOCATION:St Ninian’s Church\, 10 Vicars Road\, Stonehouse\, ML9 3EB\, United Kingdom
CATEGORIES:Music
END:VEVENT
BEGIN:VEVENT
DTSTART;TZID=Europe/London:20240509T190000
DTEND;TZID=Europe/London:20240509T220000
DTSTAMP:20260424T051352
CREATED:20230816T103057Z
LAST-MODIFIED:20251229T164502Z
UID:10002881-1715281200-1715292000@www.st-ninians-stonehouse.org.uk
SUMMARY:Hope Cafe Too
DESCRIPTION:A Peer Support group facilitated by Jenna Hardwood of Lene on Me.
URL:https://www.st-ninians-stonehouse.org.uk/event/hope-cafe-too-5/2024-05-09
CATEGORIES:community,mental health
ATTACH;FMTTYPE=image/png:https://www.st-ninians-stonehouse.org.uk/wp-content/uploads/2023/08/Hope-Cafe-Video.png
END:VEVENT
BEGIN:VEVENT
DTSTART;TZID=Europe/London:20240509T190000
DTEND;TZID=Europe/London:20240509T220000
DTSTAMP:20260424T051352
CREATED:20230805T145751Z
LAST-MODIFIED:20250725T151554Z
UID:10001752-1715281200-1715292000@www.st-ninians-stonehouse.org.uk
SUMMARY:Burnbank Dog Club
DESCRIPTION:Obedience training for dogs.  Contact the club to find out more!
URL:https://www.st-ninians-stonehouse.org.uk/event/dog-club/2024-05-09
LOCATION:St Ninian’s Church\, 10 Vicars Road\, Stonehouse\, ML9 3EB\, United Kingdom
CATEGORIES:Dog Club
ATTACH;FMTTYPE=image/jpeg:https://www.st-ninians-stonehouse.org.uk/wp-content/uploads/2023/08/8390612_orig.jpg
END:VEVENT
BEGIN:VEVENT
DTSTART;TZID=Europe/London:20240509T093000
DTEND;TZID=Europe/London:20240509T100000
DTSTAMP:20260424T051352
CREATED:20230805T145350Z
LAST-MODIFIED:20251229T163548Z
UID:10001490-1715247000-1715248800@www.st-ninians-stonehouse.org.uk
SUMMARY:Morning Prayers
DESCRIPTION:We meet for Morning Prayers on Thursdays at St Ninian’s Church and we follow the short services from The Iona Community.
URL:https://www.st-ninians-stonehouse.org.uk/event/morning-prayers-25/2024-05-09
CATEGORIES:Prayer,worship
ATTACH;FMTTYPE=image/png:https://www.st-ninians-stonehouse.org.uk/wp-content/uploads/2023/08/morning-prayer-Thursday-Video.png
END:VEVENT
BEGIN:VEVENT
DTSTART;TZID=Europe/London:20240508T180000
DTEND;TZID=Europe/London:20240508T213000
DTSTAMP:20260424T051352
CREATED:20220223T153057Z
LAST-MODIFIED:20230813T134354Z
UID:10002279-1715191200-1715203800@www.st-ninians-stonehouse.org.uk
SUMMARY:Boys' Brigade
DESCRIPTION:Anchor Boys (P1 – P3) – 6pm – 7pm; Junior Section (P4 – P6) – 6:45pm – 8pm ; Company & Senior Sections (P7 – S6) – 8pm – 9:30pm
URL:https://www.st-ninians-stonehouse.org.uk/event/boys-brigade-6/2024-05-08
LOCATION:St Ninian’s Church\, 10 Vicars Road\, Stonehouse\, ML9 3EB\, United Kingdom
CATEGORIES:boys brigade
ATTACH;FMTTYPE=image/png:https://www.st-ninians-stonehouse.org.uk/wp-content/uploads/2022/02/1st-Stonehouse-Times-YouTube-Thumbnail.png
END:VEVENT
BEGIN:VEVENT
DTSTART;TZID=Europe/London:20240507T153000
DTEND;TZID=Europe/London:20240507T210000
DTSTAMP:20260424T051352
CREATED:20230813T144513Z
LAST-MODIFIED:20250725T151447Z
UID:10002356-1715095800-1715115600@www.st-ninians-stonehouse.org.uk
SUMMARY:Girls Brigade
DESCRIPTION:3 – 4pm Explorers (P1 – P3)\, \n5:30 – 7pm Juniors (P4 – P6) \nand 7:30pm – 9pm Brigaders (P7 – S6)
URL:https://www.st-ninians-stonehouse.org.uk/event/girls-brigade-6/2024-05-07
LOCATION:St Ninian’s Church\, 10 Vicars Road\, Stonehouse\, ML9 3EB\, United Kingdom
CATEGORIES:Girls Brigade
ATTACH;FMTTYPE=image/png:https://www.st-ninians-stonehouse.org.uk/wp-content/uploads/2023/08/Girls-Brigade-times-YouTube-Thumbnail.png
END:VEVENT
BEGIN:VEVENT
DTSTART;TZID=Europe/London:20240507T100000
DTEND;TZID=Europe/London:20240507T113000
DTSTAMP:20260424T051352
CREATED:20230813T144743Z
LAST-MODIFIED:20230813T152038Z
UID:10002615-1715076000-1715081400@www.st-ninians-stonehouse.org.uk
SUMMARY:Coffee Morning
DESCRIPTION:Coffee morning every Tuesday morning. £3.
URL:https://www.st-ninians-stonehouse.org.uk/event/coffee-morning-14/2024-05-07
CATEGORIES:coffee morning,community
ATTACH;FMTTYPE=image/png:https://www.st-ninians-stonehouse.org.uk/wp-content/uploads/2023/04/coffee-morning-Video-2.png
END:VEVENT
BEGIN:VEVENT
DTSTART;TZID=Europe/London:20240505T140000
DTEND;TZID=Europe/London:20240505T180000
DTSTAMP:20260424T051352
CREATED:20230805T150007Z
LAST-MODIFIED:20250725T151939Z
UID:10002012-1714917600-1714932000@www.st-ninians-stonehouse.org.uk
SUMMARY:T.A.B.S.
DESCRIPTION:The Acting Bairns of Stonehouse is a musical theatre group for young people.
URL:https://www.st-ninians-stonehouse.org.uk/event/t-a-b-s/2024-05-05
LOCATION:St Ninian’s Church\, 10 Vicars Road\, Stonehouse\, ML9 3EB\, United Kingdom
CATEGORIES:Music,Youth
END:VEVENT
BEGIN:VEVENT
DTSTART;TZID=Europe/London:20240505T130000
DTEND;TZID=Europe/London:20240505T143000
DTSTAMP:20260424T051352
CREATED:20230805T143446Z
LAST-MODIFIED:20230805T143446Z
UID:10000977-1714914000-1714919400@www.st-ninians-stonehouse.org.uk
SUMMARY:Food Bank
DESCRIPTION:Our foodbank is open for donations every Sunday from 1-2:30pm. You can also collect food. If you need food during the week then pop down to The Pantry at Old Stonehouse Cafe at the Cross.
URL:https://www.st-ninians-stonehouse.org.uk/event/food-bank/2024-05-05
LOCATION:St Ninian’s Church\, 10 Vicars Road\, Stonehouse\, ML9 3EB\, United Kingdom
CATEGORIES:foodbank
ATTACH;FMTTYPE=image/png:https://www.st-ninians-stonehouse.org.uk/wp-content/uploads/2022/01/foodbank-1-230.001.png
END:VEVENT
BEGIN:VEVENT
DTSTART;TZID=Europe/London:20240505T110000
DTEND;TZID=Europe/London:20240505T130000
DTSTAMP:20260424T051352
CREATED:20230805T142047Z
LAST-MODIFIED:20230805T142047Z
UID:10000438-1714906800-1714914000@www.st-ninians-stonehouse.org.uk
SUMMARY:Sunday Service
DESCRIPTION:Our Sunday Service is for everyone! We have a Sunday School and creche and lunch afterwards!
URL:https://www.st-ninians-stonehouse.org.uk/event/sunday-service-25/2024-05-05
LOCATION:St Ninian’s Church\, 10 Vicars Road\, Stonehouse\, ML9 3EB\, United Kingdom
CATEGORIES:worship
ATTACH;FMTTYPE=image/png:https://www.st-ninians-stonehouse.org.uk/wp-content/uploads/2022/01/Sunday-Service.png
END:VEVENT
BEGIN:VEVENT
DTSTART;TZID=Europe/London:20240505T094500
DTEND;TZID=Europe/London:20240505T120000
DTSTAMP:20260424T051352
CREATED:20230805T142314Z
LAST-MODIFIED:20230816T161421Z
UID:10000699-1714902300-1714910400@www.st-ninians-stonehouse.org.uk
SUMMARY:Choir
DESCRIPTION:Our choir meets most Sundays to rehearse and lead the singing in our Sunday Service.  They also perform a few times each year at special events and services.  Email for more information.
URL:https://www.st-ninians-stonehouse.org.uk/event/choir/2024-05-05
LOCATION:St Ninian’s Church\, 10 Vicars Road\, Stonehouse\, ML9 3EB\, United Kingdom
CATEGORIES:choir
END:VEVENT
BEGIN:VEVENT
DTSTART;TZID=Europe/London:20240502T190000
DTEND;TZID=Europe/London:20240502T220000
DTSTAMP:20260424T051352
CREATED:20230805T145751Z
LAST-MODIFIED:20250725T151554Z
UID:10001751-1714676400-1714687200@www.st-ninians-stonehouse.org.uk
SUMMARY:Burnbank Dog Club
DESCRIPTION:Obedience training for dogs.  Contact the club to find out more!
URL:https://www.st-ninians-stonehouse.org.uk/event/dog-club/2024-05-02
LOCATION:St Ninian’s Church\, 10 Vicars Road\, Stonehouse\, ML9 3EB\, United Kingdom
CATEGORIES:Dog Club
ATTACH;FMTTYPE=image/jpeg:https://www.st-ninians-stonehouse.org.uk/wp-content/uploads/2023/08/8390612_orig.jpg
END:VEVENT
BEGIN:VEVENT
DTSTART;TZID=Europe/London:20240502T093000
DTEND;TZID=Europe/London:20240502T100000
DTSTAMP:20260424T051352
CREATED:20230805T145350Z
LAST-MODIFIED:20251229T163548Z
UID:10001489-1714642200-1714644000@www.st-ninians-stonehouse.org.uk
SUMMARY:Morning Prayers
DESCRIPTION:We meet for Morning Prayers on Thursdays at St Ninian’s Church and we follow the short services from The Iona Community.
URL:https://www.st-ninians-stonehouse.org.uk/event/morning-prayers-25/2024-05-02
CATEGORIES:Prayer,worship
ATTACH;FMTTYPE=image/png:https://www.st-ninians-stonehouse.org.uk/wp-content/uploads/2023/08/morning-prayer-Thursday-Video.png
END:VEVENT
BEGIN:VEVENT
DTSTART;TZID=Europe/London:20240501T180000
DTEND;TZID=Europe/London:20240501T213000
DTSTAMP:20260424T051352
CREATED:20220223T153057Z
LAST-MODIFIED:20230813T134354Z
UID:10002278-1714586400-1714599000@www.st-ninians-stonehouse.org.uk
SUMMARY:Boys' Brigade
DESCRIPTION:Anchor Boys (P1 – P3) – 6pm – 7pm; Junior Section (P4 – P6) – 6:45pm – 8pm ; Company & Senior Sections (P7 – S6) – 8pm – 9:30pm
URL:https://www.st-ninians-stonehouse.org.uk/event/boys-brigade-6/2024-05-01
LOCATION:St Ninian’s Church\, 10 Vicars Road\, Stonehouse\, ML9 3EB\, United Kingdom
CATEGORIES:boys brigade
ATTACH;FMTTYPE=image/png:https://www.st-ninians-stonehouse.org.uk/wp-content/uploads/2022/02/1st-Stonehouse-Times-YouTube-Thumbnail.png
END:VEVENT
BEGIN:VEVENT
DTSTART;TZID=Europe/London:20240430T153000
DTEND;TZID=Europe/London:20240430T210000
DTSTAMP:20260424T051352
CREATED:20230813T144513Z
LAST-MODIFIED:20250725T151447Z
UID:10002355-1714491000-1714510800@www.st-ninians-stonehouse.org.uk
SUMMARY:Girls Brigade
DESCRIPTION:3 – 4pm Explorers (P1 – P3)\, \n5:30 – 7pm Juniors (P4 – P6) \nand 7:30pm – 9pm Brigaders (P7 – S6)
URL:https://www.st-ninians-stonehouse.org.uk/event/girls-brigade-6/2024-04-30
LOCATION:St Ninian’s Church\, 10 Vicars Road\, Stonehouse\, ML9 3EB\, United Kingdom
CATEGORIES:Girls Brigade
ATTACH;FMTTYPE=image/png:https://www.st-ninians-stonehouse.org.uk/wp-content/uploads/2023/08/Girls-Brigade-times-YouTube-Thumbnail.png
END:VEVENT
BEGIN:VEVENT
DTSTART;TZID=Europe/London:20240430T100000
DTEND;TZID=Europe/London:20240430T113000
DTSTAMP:20260424T051352
CREATED:20230813T144743Z
LAST-MODIFIED:20230813T152038Z
UID:10002614-1714471200-1714476600@www.st-ninians-stonehouse.org.uk
SUMMARY:Coffee Morning
DESCRIPTION:Coffee morning every Tuesday morning. £3.
URL:https://www.st-ninians-stonehouse.org.uk/event/coffee-morning-14/2024-04-30
CATEGORIES:coffee morning,community
ATTACH;FMTTYPE=image/png:https://www.st-ninians-stonehouse.org.uk/wp-content/uploads/2023/04/coffee-morning-Video-2.png
END:VEVENT
BEGIN:VEVENT
DTSTART;TZID=Europe/London:20240428T140000
DTEND;TZID=Europe/London:20240428T180000
DTSTAMP:20260424T051352
CREATED:20230805T150007Z
LAST-MODIFIED:20250725T151939Z
UID:10002011-1714312800-1714327200@www.st-ninians-stonehouse.org.uk
SUMMARY:T.A.B.S.
DESCRIPTION:The Acting Bairns of Stonehouse is a musical theatre group for young people.
URL:https://www.st-ninians-stonehouse.org.uk/event/t-a-b-s/2024-04-28
LOCATION:St Ninian’s Church\, 10 Vicars Road\, Stonehouse\, ML9 3EB\, United Kingdom
CATEGORIES:Music,Youth
END:VEVENT
BEGIN:VEVENT
DTSTART;TZID=Europe/London:20240428T130000
DTEND;TZID=Europe/London:20240428T143000
DTSTAMP:20260424T051352
CREATED:20230805T143446Z
LAST-MODIFIED:20230805T143446Z
UID:10000976-1714309200-1714314600@www.st-ninians-stonehouse.org.uk
SUMMARY:Food Bank
DESCRIPTION:Our foodbank is open for donations every Sunday from 1-2:30pm. You can also collect food. If you need food during the week then pop down to The Pantry at Old Stonehouse Cafe at the Cross.
URL:https://www.st-ninians-stonehouse.org.uk/event/food-bank/2024-04-28
LOCATION:St Ninian’s Church\, 10 Vicars Road\, Stonehouse\, ML9 3EB\, United Kingdom
CATEGORIES:foodbank
ATTACH;FMTTYPE=image/png:https://www.st-ninians-stonehouse.org.uk/wp-content/uploads/2022/01/foodbank-1-230.001.png
END:VEVENT
BEGIN:VEVENT
DTSTART;TZID=Europe/London:20240428T110000
DTEND;TZID=Europe/London:20240428T130000
DTSTAMP:20260424T051352
CREATED:20230805T142047Z
LAST-MODIFIED:20230805T142047Z
UID:10000437-1714302000-1714309200@www.st-ninians-stonehouse.org.uk
SUMMARY:Sunday Service
DESCRIPTION:Our Sunday Service is for everyone! We have a Sunday School and creche and lunch afterwards!
URL:https://www.st-ninians-stonehouse.org.uk/event/sunday-service-25/2024-04-28
LOCATION:St Ninian’s Church\, 10 Vicars Road\, Stonehouse\, ML9 3EB\, United Kingdom
CATEGORIES:worship
ATTACH;FMTTYPE=image/png:https://www.st-ninians-stonehouse.org.uk/wp-content/uploads/2022/01/Sunday-Service.png
END:VEVENT
BEGIN:VEVENT
DTSTART;TZID=Europe/London:20240428T094500
DTEND;TZID=Europe/London:20240428T120000
DTSTAMP:20260424T051352
CREATED:20230805T142314Z
LAST-MODIFIED:20230816T161421Z
UID:10000698-1714297500-1714305600@www.st-ninians-stonehouse.org.uk
SUMMARY:Choir
DESCRIPTION:Our choir meets most Sundays to rehearse and lead the singing in our Sunday Service.  They also perform a few times each year at special events and services.  Email for more information.
URL:https://www.st-ninians-stonehouse.org.uk/event/choir/2024-04-28
LOCATION:St Ninian’s Church\, 10 Vicars Road\, Stonehouse\, ML9 3EB\, United Kingdom
CATEGORIES:choir
END:VEVENT
END:VCALENDAR