BEGIN:VCALENDAR
VERSION:2.0
PRODID:-//St Ninian&#039;s Church Stonehouse LEP - ECPv6.15.18//NONSGML v1.0//EN
CALSCALE:GREGORIAN
METHOD:PUBLISH
X-ORIGINAL-URL:https://www.st-ninians-stonehouse.org.uk
X-WR-CALDESC:Events for St Ninian&#039;s Church Stonehouse LEP
REFRESH-INTERVAL;VALUE=DURATION:PT1H
X-Robots-Tag:noindex
X-PUBLISHED-TTL:PT1H
BEGIN:VTIMEZONE
TZID:Europe/London
BEGIN:DAYLIGHT
TZOFFSETFROM:+0000
TZOFFSETTO:+0100
TZNAME:BST
DTSTART:20260329T010000
END:DAYLIGHT
BEGIN:STANDARD
TZOFFSETFROM:+0100
TZOFFSETTO:+0000
TZNAME:GMT
DTSTART:20261025T010000
END:STANDARD
BEGIN:DAYLIGHT
TZOFFSETFROM:+0000
TZOFFSETTO:+0100
TZNAME:BST
DTSTART:20270328T010000
END:DAYLIGHT
BEGIN:STANDARD
TZOFFSETFROM:+0100
TZOFFSETTO:+0000
TZNAME:GMT
DTSTART:20271031T010000
END:STANDARD
BEGIN:DAYLIGHT
TZOFFSETFROM:+0000
TZOFFSETTO:+0100
TZNAME:BST
DTSTART:20280326T010000
END:DAYLIGHT
BEGIN:STANDARD
TZOFFSETFROM:+0100
TZOFFSETTO:+0000
TZNAME:GMT
DTSTART:20281029T010000
END:STANDARD
END:VTIMEZONE
BEGIN:VEVENT
DTSTART;TZID=Europe/London:20270108T193000
DTEND;TZID=Europe/London:20270108T223000
DTSTAMP:20260420T131222
CREATED:20240220T122519Z
LAST-MODIFIED:20240220T122519Z
UID:10003518-1799436600-1799447400@www.st-ninians-stonehouse.org.uk
SUMMARY:Folk Club
DESCRIPTION:Stonehouse Folk Club
URL:https://www.st-ninians-stonehouse.org.uk/event/folk-club-3/2027-01-08
LOCATION:St Ninian’s Church\, 10 Vicars Road\, Stonehouse\, ML9 3EB\, United Kingdom
CATEGORIES:Music
END:VEVENT
BEGIN:VEVENT
DTSTART;TZID=Europe/London:20270110T140000
DTEND;TZID=Europe/London:20270110T180000
DTSTAMP:20260420T131222
CREATED:20230805T150007Z
LAST-MODIFIED:20250725T151939Z
UID:10002152-1799589600-1799604000@www.st-ninians-stonehouse.org.uk
SUMMARY:T.A.B.S.
DESCRIPTION:The Acting Bairns of Stonehouse is a musical theatre group for young people.
URL:https://www.st-ninians-stonehouse.org.uk/event/t-a-b-s/2027-01-10
LOCATION:St Ninian’s Church\, 10 Vicars Road\, Stonehouse\, ML9 3EB\, United Kingdom
CATEGORIES:Music,Youth
END:VEVENT
BEGIN:VEVENT
DTSTART;TZID=Europe/London:20270117T140000
DTEND;TZID=Europe/London:20270117T180000
DTSTAMP:20260420T131222
CREATED:20230805T150007Z
LAST-MODIFIED:20250725T151939Z
UID:10002153-1800194400-1800208800@www.st-ninians-stonehouse.org.uk
SUMMARY:T.A.B.S.
DESCRIPTION:The Acting Bairns of Stonehouse is a musical theatre group for young people.
URL:https://www.st-ninians-stonehouse.org.uk/event/t-a-b-s/2027-01-17
LOCATION:St Ninian’s Church\, 10 Vicars Road\, Stonehouse\, ML9 3EB\, United Kingdom
CATEGORIES:Music,Youth
END:VEVENT
BEGIN:VEVENT
DTSTART;TZID=Europe/London:20270122T193000
DTEND;TZID=Europe/London:20270122T223000
DTSTAMP:20260420T131222
CREATED:20240220T122414Z
LAST-MODIFIED:20240220T122556Z
UID:10003459-1800646200-1800657000@www.st-ninians-stonehouse.org.uk
SUMMARY:Folk Club
DESCRIPTION:Stonehouse Folk Club
URL:https://www.st-ninians-stonehouse.org.uk/event/folk-club-2/2027-01-22
LOCATION:St Ninian’s Church\, 10 Vicars Road\, Stonehouse\, ML9 3EB\, United Kingdom
CATEGORIES:Music
END:VEVENT
BEGIN:VEVENT
DTSTART;TZID=Europe/London:20270124T140000
DTEND;TZID=Europe/London:20270124T180000
DTSTAMP:20260420T131222
CREATED:20230805T150007Z
LAST-MODIFIED:20250725T151939Z
UID:10002154-1800799200-1800813600@www.st-ninians-stonehouse.org.uk
SUMMARY:T.A.B.S.
DESCRIPTION:The Acting Bairns of Stonehouse is a musical theatre group for young people.
URL:https://www.st-ninians-stonehouse.org.uk/event/t-a-b-s/2027-01-24
LOCATION:St Ninian’s Church\, 10 Vicars Road\, Stonehouse\, ML9 3EB\, United Kingdom
CATEGORIES:Music,Youth
END:VEVENT
BEGIN:VEVENT
DTSTART;TZID=Europe/London:20270131T140000
DTEND;TZID=Europe/London:20270131T180000
DTSTAMP:20260420T131222
CREATED:20230805T150007Z
LAST-MODIFIED:20250725T151939Z
UID:10002155-1801404000-1801418400@www.st-ninians-stonehouse.org.uk
SUMMARY:T.A.B.S.
DESCRIPTION:The Acting Bairns of Stonehouse is a musical theatre group for young people.
URL:https://www.st-ninians-stonehouse.org.uk/event/t-a-b-s/2027-01-31
LOCATION:St Ninian’s Church\, 10 Vicars Road\, Stonehouse\, ML9 3EB\, United Kingdom
CATEGORIES:Music,Youth
END:VEVENT
BEGIN:VEVENT
DTSTART;TZID=Europe/London:20270207T140000
DTEND;TZID=Europe/London:20270207T180000
DTSTAMP:20260420T131222
CREATED:20230805T150007Z
LAST-MODIFIED:20250725T151939Z
UID:10002156-1802008800-1802023200@www.st-ninians-stonehouse.org.uk
SUMMARY:T.A.B.S.
DESCRIPTION:The Acting Bairns of Stonehouse is a musical theatre group for young people.
URL:https://www.st-ninians-stonehouse.org.uk/event/t-a-b-s/2027-02-07
LOCATION:St Ninian’s Church\, 10 Vicars Road\, Stonehouse\, ML9 3EB\, United Kingdom
CATEGORIES:Music,Youth
END:VEVENT
BEGIN:VEVENT
DTSTART;TZID=Europe/London:20270212T193000
DTEND;TZID=Europe/London:20270212T223000
DTSTAMP:20260420T131222
CREATED:20240220T122519Z
LAST-MODIFIED:20240220T122519Z
UID:10003519-1802460600-1802471400@www.st-ninians-stonehouse.org.uk
SUMMARY:Folk Club
DESCRIPTION:Stonehouse Folk Club
URL:https://www.st-ninians-stonehouse.org.uk/event/folk-club-3/2027-02-12
LOCATION:St Ninian’s Church\, 10 Vicars Road\, Stonehouse\, ML9 3EB\, United Kingdom
CATEGORIES:Music
END:VEVENT
BEGIN:VEVENT
DTSTART;TZID=Europe/London:20270214T140000
DTEND;TZID=Europe/London:20270214T180000
DTSTAMP:20260420T131222
CREATED:20230805T150007Z
LAST-MODIFIED:20250725T151939Z
UID:10002157-1802613600-1802628000@www.st-ninians-stonehouse.org.uk
SUMMARY:T.A.B.S.
DESCRIPTION:The Acting Bairns of Stonehouse is a musical theatre group for young people.
URL:https://www.st-ninians-stonehouse.org.uk/event/t-a-b-s/2027-02-14
LOCATION:St Ninian’s Church\, 10 Vicars Road\, Stonehouse\, ML9 3EB\, United Kingdom
CATEGORIES:Music,Youth
END:VEVENT
BEGIN:VEVENT
DTSTART;TZID=Europe/London:20270221T140000
DTEND;TZID=Europe/London:20270221T180000
DTSTAMP:20260420T131222
CREATED:20230805T150007Z
LAST-MODIFIED:20250725T151939Z
UID:10002158-1803218400-1803232800@www.st-ninians-stonehouse.org.uk
SUMMARY:T.A.B.S.
DESCRIPTION:The Acting Bairns of Stonehouse is a musical theatre group for young people.
URL:https://www.st-ninians-stonehouse.org.uk/event/t-a-b-s/2027-02-21
LOCATION:St Ninian’s Church\, 10 Vicars Road\, Stonehouse\, ML9 3EB\, United Kingdom
CATEGORIES:Music,Youth
END:VEVENT
BEGIN:VEVENT
DTSTART;TZID=Europe/London:20270226T193000
DTEND;TZID=Europe/London:20270226T223000
DTSTAMP:20260420T131222
CREATED:20240220T122414Z
LAST-MODIFIED:20240220T122556Z
UID:10003460-1803670200-1803681000@www.st-ninians-stonehouse.org.uk
SUMMARY:Folk Club
DESCRIPTION:Stonehouse Folk Club
URL:https://www.st-ninians-stonehouse.org.uk/event/folk-club-2/2027-02-26
LOCATION:St Ninian’s Church\, 10 Vicars Road\, Stonehouse\, ML9 3EB\, United Kingdom
CATEGORIES:Music
END:VEVENT
BEGIN:VEVENT
DTSTART;TZID=Europe/London:20270228T140000
DTEND;TZID=Europe/London:20270228T180000
DTSTAMP:20260420T131222
CREATED:20230805T150007Z
LAST-MODIFIED:20250725T151939Z
UID:10002159-1803823200-1803837600@www.st-ninians-stonehouse.org.uk
SUMMARY:T.A.B.S.
DESCRIPTION:The Acting Bairns of Stonehouse is a musical theatre group for young people.
URL:https://www.st-ninians-stonehouse.org.uk/event/t-a-b-s/2027-02-28
LOCATION:St Ninian’s Church\, 10 Vicars Road\, Stonehouse\, ML9 3EB\, United Kingdom
CATEGORIES:Music,Youth
END:VEVENT
BEGIN:VEVENT
DTSTART;TZID=Europe/London:20270307T140000
DTEND;TZID=Europe/London:20270307T180000
DTSTAMP:20260420T131222
CREATED:20230805T150007Z
LAST-MODIFIED:20250725T151939Z
UID:10002160-1804428000-1804442400@www.st-ninians-stonehouse.org.uk
SUMMARY:T.A.B.S.
DESCRIPTION:The Acting Bairns of Stonehouse is a musical theatre group for young people.
URL:https://www.st-ninians-stonehouse.org.uk/event/t-a-b-s/2027-03-07
LOCATION:St Ninian’s Church\, 10 Vicars Road\, Stonehouse\, ML9 3EB\, United Kingdom
CATEGORIES:Music,Youth
END:VEVENT
BEGIN:VEVENT
DTSTART;TZID=Europe/London:20270312T193000
DTEND;TZID=Europe/London:20270312T223000
DTSTAMP:20260420T131222
CREATED:20240220T122519Z
LAST-MODIFIED:20240220T122519Z
UID:10003520-1804879800-1804890600@www.st-ninians-stonehouse.org.uk
SUMMARY:Folk Club
DESCRIPTION:Stonehouse Folk Club
URL:https://www.st-ninians-stonehouse.org.uk/event/folk-club-3/2027-03-12
LOCATION:St Ninian’s Church\, 10 Vicars Road\, Stonehouse\, ML9 3EB\, United Kingdom
CATEGORIES:Music
END:VEVENT
BEGIN:VEVENT
DTSTART;TZID=Europe/London:20270314T140000
DTEND;TZID=Europe/London:20270314T180000
DTSTAMP:20260420T131222
CREATED:20230805T150007Z
LAST-MODIFIED:20250725T151939Z
UID:10002161-1805032800-1805047200@www.st-ninians-stonehouse.org.uk
SUMMARY:T.A.B.S.
DESCRIPTION:The Acting Bairns of Stonehouse is a musical theatre group for young people.
URL:https://www.st-ninians-stonehouse.org.uk/event/t-a-b-s/2027-03-14
LOCATION:St Ninian’s Church\, 10 Vicars Road\, Stonehouse\, ML9 3EB\, United Kingdom
CATEGORIES:Music,Youth
END:VEVENT
BEGIN:VEVENT
DTSTART;TZID=Europe/London:20270321T140000
DTEND;TZID=Europe/London:20270321T180000
DTSTAMP:20260420T131222
CREATED:20230805T150007Z
LAST-MODIFIED:20250725T151939Z
UID:10002162-1805637600-1805652000@www.st-ninians-stonehouse.org.uk
SUMMARY:T.A.B.S.
DESCRIPTION:The Acting Bairns of Stonehouse is a musical theatre group for young people.
URL:https://www.st-ninians-stonehouse.org.uk/event/t-a-b-s/2027-03-21
LOCATION:St Ninian’s Church\, 10 Vicars Road\, Stonehouse\, ML9 3EB\, United Kingdom
CATEGORIES:Music,Youth
END:VEVENT
BEGIN:VEVENT
DTSTART;TZID=Europe/London:20270326T193000
DTEND;TZID=Europe/London:20270326T223000
DTSTAMP:20260420T131222
CREATED:20240220T122414Z
LAST-MODIFIED:20240220T122556Z
UID:10003461-1806089400-1806100200@www.st-ninians-stonehouse.org.uk
SUMMARY:Folk Club
DESCRIPTION:Stonehouse Folk Club
URL:https://www.st-ninians-stonehouse.org.uk/event/folk-club-2/2027-03-26
LOCATION:St Ninian’s Church\, 10 Vicars Road\, Stonehouse\, ML9 3EB\, United Kingdom
CATEGORIES:Music
END:VEVENT
BEGIN:VEVENT
DTSTART;TZID=Europe/London:20270328T140000
DTEND;TZID=Europe/London:20270328T180000
DTSTAMP:20260420T131222
CREATED:20230805T150007Z
LAST-MODIFIED:20250725T151939Z
UID:10002163-1806242400-1806256800@www.st-ninians-stonehouse.org.uk
SUMMARY:T.A.B.S.
DESCRIPTION:The Acting Bairns of Stonehouse is a musical theatre group for young people.
URL:https://www.st-ninians-stonehouse.org.uk/event/t-a-b-s/2027-03-28
LOCATION:St Ninian’s Church\, 10 Vicars Road\, Stonehouse\, ML9 3EB\, United Kingdom
CATEGORIES:Music,Youth
END:VEVENT
BEGIN:VEVENT
DTSTART;TZID=Europe/London:20270404T140000
DTEND;TZID=Europe/London:20270404T180000
DTSTAMP:20260420T131222
CREATED:20230805T150007Z
LAST-MODIFIED:20250725T151939Z
UID:10002164-1806847200-1806861600@www.st-ninians-stonehouse.org.uk
SUMMARY:T.A.B.S.
DESCRIPTION:The Acting Bairns of Stonehouse is a musical theatre group for young people.
URL:https://www.st-ninians-stonehouse.org.uk/event/t-a-b-s/2027-04-04
LOCATION:St Ninian’s Church\, 10 Vicars Road\, Stonehouse\, ML9 3EB\, United Kingdom
CATEGORIES:Music,Youth
END:VEVENT
BEGIN:VEVENT
DTSTART;TZID=Europe/London:20270409T193000
DTEND;TZID=Europe/London:20270409T223000
DTSTAMP:20260420T131222
CREATED:20240220T122519Z
LAST-MODIFIED:20240220T122519Z
UID:10003521-1807299000-1807309800@www.st-ninians-stonehouse.org.uk
SUMMARY:Folk Club
DESCRIPTION:Stonehouse Folk Club
URL:https://www.st-ninians-stonehouse.org.uk/event/folk-club-3/2027-04-09
LOCATION:St Ninian’s Church\, 10 Vicars Road\, Stonehouse\, ML9 3EB\, United Kingdom
CATEGORIES:Music
END:VEVENT
BEGIN:VEVENT
DTSTART;TZID=Europe/London:20270411T140000
DTEND;TZID=Europe/London:20270411T180000
DTSTAMP:20260420T131222
CREATED:20230805T150007Z
LAST-MODIFIED:20250725T151939Z
UID:10002165-1807452000-1807466400@www.st-ninians-stonehouse.org.uk
SUMMARY:T.A.B.S.
DESCRIPTION:The Acting Bairns of Stonehouse is a musical theatre group for young people.
URL:https://www.st-ninians-stonehouse.org.uk/event/t-a-b-s/2027-04-11
LOCATION:St Ninian’s Church\, 10 Vicars Road\, Stonehouse\, ML9 3EB\, United Kingdom
CATEGORIES:Music,Youth
END:VEVENT
BEGIN:VEVENT
DTSTART;TZID=Europe/London:20270418T140000
DTEND;TZID=Europe/London:20270418T180000
DTSTAMP:20260420T131222
CREATED:20230805T150007Z
LAST-MODIFIED:20250725T151939Z
UID:10002166-1808056800-1808071200@www.st-ninians-stonehouse.org.uk
SUMMARY:T.A.B.S.
DESCRIPTION:The Acting Bairns of Stonehouse is a musical theatre group for young people.
URL:https://www.st-ninians-stonehouse.org.uk/event/t-a-b-s/2027-04-18
LOCATION:St Ninian’s Church\, 10 Vicars Road\, Stonehouse\, ML9 3EB\, United Kingdom
CATEGORIES:Music,Youth
END:VEVENT
BEGIN:VEVENT
DTSTART;TZID=Europe/London:20270423T193000
DTEND;TZID=Europe/London:20270423T223000
DTSTAMP:20260420T131222
CREATED:20240220T122414Z
LAST-MODIFIED:20240220T122556Z
UID:10003462-1808508600-1808519400@www.st-ninians-stonehouse.org.uk
SUMMARY:Folk Club
DESCRIPTION:Stonehouse Folk Club
URL:https://www.st-ninians-stonehouse.org.uk/event/folk-club-2/2027-04-23
LOCATION:St Ninian’s Church\, 10 Vicars Road\, Stonehouse\, ML9 3EB\, United Kingdom
CATEGORIES:Music
END:VEVENT
BEGIN:VEVENT
DTSTART;TZID=Europe/London:20270425T140000
DTEND;TZID=Europe/London:20270425T180000
DTSTAMP:20260420T131222
CREATED:20230805T150007Z
LAST-MODIFIED:20250725T151939Z
UID:10002167-1808661600-1808676000@www.st-ninians-stonehouse.org.uk
SUMMARY:T.A.B.S.
DESCRIPTION:The Acting Bairns of Stonehouse is a musical theatre group for young people.
URL:https://www.st-ninians-stonehouse.org.uk/event/t-a-b-s/2027-04-25
LOCATION:St Ninian’s Church\, 10 Vicars Road\, Stonehouse\, ML9 3EB\, United Kingdom
CATEGORIES:Music,Youth
END:VEVENT
BEGIN:VEVENT
DTSTART;TZID=Europe/London:20270502T140000
DTEND;TZID=Europe/London:20270502T180000
DTSTAMP:20260420T131222
CREATED:20230805T150007Z
LAST-MODIFIED:20250725T151939Z
UID:10002168-1809266400-1809280800@www.st-ninians-stonehouse.org.uk
SUMMARY:T.A.B.S.
DESCRIPTION:The Acting Bairns of Stonehouse is a musical theatre group for young people.
URL:https://www.st-ninians-stonehouse.org.uk/event/t-a-b-s/2027-05-02
LOCATION:St Ninian’s Church\, 10 Vicars Road\, Stonehouse\, ML9 3EB\, United Kingdom
CATEGORIES:Music,Youth
END:VEVENT
BEGIN:VEVENT
DTSTART;TZID=Europe/London:20270509T140000
DTEND;TZID=Europe/London:20270509T180000
DTSTAMP:20260420T131222
CREATED:20230805T150007Z
LAST-MODIFIED:20250725T151939Z
UID:10002169-1809871200-1809885600@www.st-ninians-stonehouse.org.uk
SUMMARY:T.A.B.S.
DESCRIPTION:The Acting Bairns of Stonehouse is a musical theatre group for young people.
URL:https://www.st-ninians-stonehouse.org.uk/event/t-a-b-s/2027-05-09
LOCATION:St Ninian’s Church\, 10 Vicars Road\, Stonehouse\, ML9 3EB\, United Kingdom
CATEGORIES:Music,Youth
END:VEVENT
BEGIN:VEVENT
DTSTART;TZID=Europe/London:20270514T193000
DTEND;TZID=Europe/London:20270514T223000
DTSTAMP:20260420T131222
CREATED:20240220T122519Z
LAST-MODIFIED:20240220T122519Z
UID:10003522-1810323000-1810333800@www.st-ninians-stonehouse.org.uk
SUMMARY:Folk Club
DESCRIPTION:Stonehouse Folk Club
URL:https://www.st-ninians-stonehouse.org.uk/event/folk-club-3/2027-05-14
LOCATION:St Ninian’s Church\, 10 Vicars Road\, Stonehouse\, ML9 3EB\, United Kingdom
CATEGORIES:Music
END:VEVENT
BEGIN:VEVENT
DTSTART;TZID=Europe/London:20270516T140000
DTEND;TZID=Europe/London:20270516T180000
DTSTAMP:20260420T131222
CREATED:20230805T150007Z
LAST-MODIFIED:20250725T151939Z
UID:10002170-1810476000-1810490400@www.st-ninians-stonehouse.org.uk
SUMMARY:T.A.B.S.
DESCRIPTION:The Acting Bairns of Stonehouse is a musical theatre group for young people.
URL:https://www.st-ninians-stonehouse.org.uk/event/t-a-b-s/2027-05-16
LOCATION:St Ninian’s Church\, 10 Vicars Road\, Stonehouse\, ML9 3EB\, United Kingdom
CATEGORIES:Music,Youth
END:VEVENT
BEGIN:VEVENT
DTSTART;TZID=Europe/London:20270523T140000
DTEND;TZID=Europe/London:20270523T180000
DTSTAMP:20260420T131222
CREATED:20230805T150007Z
LAST-MODIFIED:20250725T151939Z
UID:10002171-1811080800-1811095200@www.st-ninians-stonehouse.org.uk
SUMMARY:T.A.B.S.
DESCRIPTION:The Acting Bairns of Stonehouse is a musical theatre group for young people.
URL:https://www.st-ninians-stonehouse.org.uk/event/t-a-b-s/2027-05-23
LOCATION:St Ninian’s Church\, 10 Vicars Road\, Stonehouse\, ML9 3EB\, United Kingdom
CATEGORIES:Music,Youth
END:VEVENT
BEGIN:VEVENT
DTSTART;TZID=Europe/London:20270528T193000
DTEND;TZID=Europe/London:20270528T223000
DTSTAMP:20260420T131222
CREATED:20240220T122414Z
LAST-MODIFIED:20240220T122556Z
UID:10003463-1811532600-1811543400@www.st-ninians-stonehouse.org.uk
SUMMARY:Folk Club
DESCRIPTION:Stonehouse Folk Club
URL:https://www.st-ninians-stonehouse.org.uk/event/folk-club-2/2027-05-28
LOCATION:St Ninian’s Church\, 10 Vicars Road\, Stonehouse\, ML9 3EB\, United Kingdom
CATEGORIES:Music
END:VEVENT
END:VCALENDAR