BEGIN:VCALENDAR
VERSION:2.0
PRODID:-//St Ninian&#039;s Church Stonehouse LEP - ECPv6.15.18//NONSGML v1.0//EN
CALSCALE:GREGORIAN
METHOD:PUBLISH
X-ORIGINAL-URL:https://www.st-ninians-stonehouse.org.uk
X-WR-CALDESC:Events for St Ninian&#039;s Church Stonehouse LEP
REFRESH-INTERVAL;VALUE=DURATION:PT1H
X-Robots-Tag:noindex
X-PUBLISHED-TTL:PT1H
BEGIN:VTIMEZONE
TZID:Europe/London
BEGIN:DAYLIGHT
TZOFFSETFROM:+0000
TZOFFSETTO:+0100
TZNAME:BST
DTSTART:20260329T010000
END:DAYLIGHT
BEGIN:STANDARD
TZOFFSETFROM:+0100
TZOFFSETTO:+0000
TZNAME:GMT
DTSTART:20261025T010000
END:STANDARD
BEGIN:DAYLIGHT
TZOFFSETFROM:+0000
TZOFFSETTO:+0100
TZNAME:BST
DTSTART:20270328T010000
END:DAYLIGHT
BEGIN:STANDARD
TZOFFSETFROM:+0100
TZOFFSETTO:+0000
TZNAME:GMT
DTSTART:20271031T010000
END:STANDARD
BEGIN:DAYLIGHT
TZOFFSETFROM:+0000
TZOFFSETTO:+0100
TZNAME:BST
DTSTART:20280326T010000
END:DAYLIGHT
BEGIN:STANDARD
TZOFFSETFROM:+0100
TZOFFSETTO:+0000
TZNAME:GMT
DTSTART:20281029T010000
END:STANDARD
BEGIN:DAYLIGHT
TZOFFSETFROM:+0000
TZOFFSETTO:+0100
TZNAME:BST
DTSTART:20290325T010000
END:DAYLIGHT
BEGIN:STANDARD
TZOFFSETFROM:+0100
TZOFFSETTO:+0000
TZNAME:GMT
DTSTART:20291028T010000
END:STANDARD
END:VTIMEZONE
BEGIN:VEVENT
DTSTART;TZID=Europe/London:20270615T153000
DTEND;TZID=Europe/London:20270615T203000
DTSTAMP:20260419T213445
CREATED:20260105T155908Z
LAST-MODIFIED:20260105T160649Z
UID:10002518-1813073400-1813091400@www.st-ninians-stonehouse.org.uk
SUMMARY:Girls Brigade
DESCRIPTION:3:15pm – 4:30pm Explorers (P1 – P3)\, \n6:30 – 8:00pm Juniors (P4 – P6) \nand 7:00pm – 8:30pm Brigaders (P7 – S6)
URL:https://www.st-ninians-stonehouse.org.uk/event/girls-brigade-6-2-2-2/2027-06-15
LOCATION:St Ninian’s Church\, 10 Vicars Road\, Stonehouse\, ML9 3EB\, United Kingdom
CATEGORIES:Girls Brigade
ATTACH;FMTTYPE=image/png:https://www.st-ninians-stonehouse.org.uk/wp-content/uploads/2023/08/GB-Restart-Times-YouTube-Thumbnail.png
END:VEVENT
BEGIN:VEVENT
DTSTART;TZID=Europe/London:20270622T153000
DTEND;TZID=Europe/London:20270622T203000
DTSTAMP:20260419T213445
CREATED:20260105T155908Z
LAST-MODIFIED:20260105T160649Z
UID:10002519-1813678200-1813696200@www.st-ninians-stonehouse.org.uk
SUMMARY:Girls Brigade
DESCRIPTION:3:15pm – 4:30pm Explorers (P1 – P3)\, \n6:30 – 8:00pm Juniors (P4 – P6) \nand 7:00pm – 8:30pm Brigaders (P7 – S6)
URL:https://www.st-ninians-stonehouse.org.uk/event/girls-brigade-6-2-2-2/2027-06-22
LOCATION:St Ninian’s Church\, 10 Vicars Road\, Stonehouse\, ML9 3EB\, United Kingdom
CATEGORIES:Girls Brigade
ATTACH;FMTTYPE=image/png:https://www.st-ninians-stonehouse.org.uk/wp-content/uploads/2023/08/GB-Restart-Times-YouTube-Thumbnail.png
END:VEVENT
BEGIN:VEVENT
DTSTART;TZID=Europe/London:20270629T153000
DTEND;TZID=Europe/London:20270629T203000
DTSTAMP:20260419T213445
CREATED:20260105T155908Z
LAST-MODIFIED:20260105T160649Z
UID:10002520-1814283000-1814301000@www.st-ninians-stonehouse.org.uk
SUMMARY:Girls Brigade
DESCRIPTION:3:15pm – 4:30pm Explorers (P1 – P3)\, \n6:30 – 8:00pm Juniors (P4 – P6) \nand 7:00pm – 8:30pm Brigaders (P7 – S6)
URL:https://www.st-ninians-stonehouse.org.uk/event/girls-brigade-6-2-2-2/2027-06-29
LOCATION:St Ninian’s Church\, 10 Vicars Road\, Stonehouse\, ML9 3EB\, United Kingdom
CATEGORIES:Girls Brigade
ATTACH;FMTTYPE=image/png:https://www.st-ninians-stonehouse.org.uk/wp-content/uploads/2023/08/GB-Restart-Times-YouTube-Thumbnail.png
END:VEVENT
BEGIN:VEVENT
DTSTART;TZID=Europe/London:20270706T153000
DTEND;TZID=Europe/London:20270706T203000
DTSTAMP:20260419T213445
CREATED:20260105T155908Z
LAST-MODIFIED:20260105T160649Z
UID:10002521-1814887800-1814905800@www.st-ninians-stonehouse.org.uk
SUMMARY:Girls Brigade
DESCRIPTION:3:15pm – 4:30pm Explorers (P1 – P3)\, \n6:30 – 8:00pm Juniors (P4 – P6) \nand 7:00pm – 8:30pm Brigaders (P7 – S6)
URL:https://www.st-ninians-stonehouse.org.uk/event/girls-brigade-6-2-2-2/2027-07-06
LOCATION:St Ninian’s Church\, 10 Vicars Road\, Stonehouse\, ML9 3EB\, United Kingdom
CATEGORIES:Girls Brigade
ATTACH;FMTTYPE=image/png:https://www.st-ninians-stonehouse.org.uk/wp-content/uploads/2023/08/GB-Restart-Times-YouTube-Thumbnail.png
END:VEVENT
BEGIN:VEVENT
DTSTART;TZID=Europe/London:20270713T153000
DTEND;TZID=Europe/London:20270713T203000
DTSTAMP:20260419T213446
CREATED:20260105T155908Z
LAST-MODIFIED:20260105T160649Z
UID:10002522-1815492600-1815510600@www.st-ninians-stonehouse.org.uk
SUMMARY:Girls Brigade
DESCRIPTION:3:15pm – 4:30pm Explorers (P1 – P3)\, \n6:30 – 8:00pm Juniors (P4 – P6) \nand 7:00pm – 8:30pm Brigaders (P7 – S6)
URL:https://www.st-ninians-stonehouse.org.uk/event/girls-brigade-6-2-2-2/2027-07-13
LOCATION:St Ninian’s Church\, 10 Vicars Road\, Stonehouse\, ML9 3EB\, United Kingdom
CATEGORIES:Girls Brigade
ATTACH;FMTTYPE=image/png:https://www.st-ninians-stonehouse.org.uk/wp-content/uploads/2023/08/GB-Restart-Times-YouTube-Thumbnail.png
END:VEVENT
BEGIN:VEVENT
DTSTART;TZID=Europe/London:20270720T153000
DTEND;TZID=Europe/London:20270720T203000
DTSTAMP:20260419T213446
CREATED:20260105T155908Z
LAST-MODIFIED:20260105T160649Z
UID:10002523-1816097400-1816115400@www.st-ninians-stonehouse.org.uk
SUMMARY:Girls Brigade
DESCRIPTION:3:15pm – 4:30pm Explorers (P1 – P3)\, \n6:30 – 8:00pm Juniors (P4 – P6) \nand 7:00pm – 8:30pm Brigaders (P7 – S6)
URL:https://www.st-ninians-stonehouse.org.uk/event/girls-brigade-6-2-2-2/2027-07-20
LOCATION:St Ninian’s Church\, 10 Vicars Road\, Stonehouse\, ML9 3EB\, United Kingdom
CATEGORIES:Girls Brigade
ATTACH;FMTTYPE=image/png:https://www.st-ninians-stonehouse.org.uk/wp-content/uploads/2023/08/GB-Restart-Times-YouTube-Thumbnail.png
END:VEVENT
BEGIN:VEVENT
DTSTART;TZID=Europe/London:20270727T153000
DTEND;TZID=Europe/London:20270727T203000
DTSTAMP:20260419T213446
CREATED:20260105T155908Z
LAST-MODIFIED:20260105T160649Z
UID:10002524-1816702200-1816720200@www.st-ninians-stonehouse.org.uk
SUMMARY:Girls Brigade
DESCRIPTION:3:15pm – 4:30pm Explorers (P1 – P3)\, \n6:30 – 8:00pm Juniors (P4 – P6) \nand 7:00pm – 8:30pm Brigaders (P7 – S6)
URL:https://www.st-ninians-stonehouse.org.uk/event/girls-brigade-6-2-2-2/2027-07-27
LOCATION:St Ninian’s Church\, 10 Vicars Road\, Stonehouse\, ML9 3EB\, United Kingdom
CATEGORIES:Girls Brigade
ATTACH;FMTTYPE=image/png:https://www.st-ninians-stonehouse.org.uk/wp-content/uploads/2023/08/GB-Restart-Times-YouTube-Thumbnail.png
END:VEVENT
BEGIN:VEVENT
DTSTART;TZID=Europe/London:20270803T153000
DTEND;TZID=Europe/London:20270803T203000
DTSTAMP:20260419T213446
CREATED:20260105T155908Z
LAST-MODIFIED:20260105T160649Z
UID:10002525-1817307000-1817325000@www.st-ninians-stonehouse.org.uk
SUMMARY:Girls Brigade
DESCRIPTION:3:15pm – 4:30pm Explorers (P1 – P3)\, \n6:30 – 8:00pm Juniors (P4 – P6) \nand 7:00pm – 8:30pm Brigaders (P7 – S6)
URL:https://www.st-ninians-stonehouse.org.uk/event/girls-brigade-6-2-2-2/2027-08-03
LOCATION:St Ninian’s Church\, 10 Vicars Road\, Stonehouse\, ML9 3EB\, United Kingdom
CATEGORIES:Girls Brigade
ATTACH;FMTTYPE=image/png:https://www.st-ninians-stonehouse.org.uk/wp-content/uploads/2023/08/GB-Restart-Times-YouTube-Thumbnail.png
END:VEVENT
BEGIN:VEVENT
DTSTART;TZID=Europe/London:20270810T153000
DTEND;TZID=Europe/London:20270810T203000
DTSTAMP:20260419T213446
CREATED:20260105T155908Z
LAST-MODIFIED:20260105T160649Z
UID:10002526-1817911800-1817929800@www.st-ninians-stonehouse.org.uk
SUMMARY:Girls Brigade
DESCRIPTION:3:15pm – 4:30pm Explorers (P1 – P3)\, \n6:30 – 8:00pm Juniors (P4 – P6) \nand 7:00pm – 8:30pm Brigaders (P7 – S6)
URL:https://www.st-ninians-stonehouse.org.uk/event/girls-brigade-6-2-2-2/2027-08-10
LOCATION:St Ninian’s Church\, 10 Vicars Road\, Stonehouse\, ML9 3EB\, United Kingdom
CATEGORIES:Girls Brigade
ATTACH;FMTTYPE=image/png:https://www.st-ninians-stonehouse.org.uk/wp-content/uploads/2023/08/GB-Restart-Times-YouTube-Thumbnail.png
END:VEVENT
BEGIN:VEVENT
DTSTART;TZID=Europe/London:20270817T153000
DTEND;TZID=Europe/London:20270817T203000
DTSTAMP:20260419T213446
CREATED:20260105T155908Z
LAST-MODIFIED:20260105T160649Z
UID:10002527-1818516600-1818534600@www.st-ninians-stonehouse.org.uk
SUMMARY:Girls Brigade
DESCRIPTION:3:15pm – 4:30pm Explorers (P1 – P3)\, \n6:30 – 8:00pm Juniors (P4 – P6) \nand 7:00pm – 8:30pm Brigaders (P7 – S6)
URL:https://www.st-ninians-stonehouse.org.uk/event/girls-brigade-6-2-2-2/2027-08-17
LOCATION:St Ninian’s Church\, 10 Vicars Road\, Stonehouse\, ML9 3EB\, United Kingdom
CATEGORIES:Girls Brigade
ATTACH;FMTTYPE=image/png:https://www.st-ninians-stonehouse.org.uk/wp-content/uploads/2023/08/GB-Restart-Times-YouTube-Thumbnail.png
END:VEVENT
BEGIN:VEVENT
DTSTART;TZID=Europe/London:20270824T153000
DTEND;TZID=Europe/London:20270824T203000
DTSTAMP:20260419T213446
CREATED:20260105T155908Z
LAST-MODIFIED:20260105T160649Z
UID:10002528-1819121400-1819139400@www.st-ninians-stonehouse.org.uk
SUMMARY:Girls Brigade
DESCRIPTION:3:15pm – 4:30pm Explorers (P1 – P3)\, \n6:30 – 8:00pm Juniors (P4 – P6) \nand 7:00pm – 8:30pm Brigaders (P7 – S6)
URL:https://www.st-ninians-stonehouse.org.uk/event/girls-brigade-6-2-2-2/2027-08-24
LOCATION:St Ninian’s Church\, 10 Vicars Road\, Stonehouse\, ML9 3EB\, United Kingdom
CATEGORIES:Girls Brigade
ATTACH;FMTTYPE=image/png:https://www.st-ninians-stonehouse.org.uk/wp-content/uploads/2023/08/GB-Restart-Times-YouTube-Thumbnail.png
END:VEVENT
BEGIN:VEVENT
DTSTART;TZID=Europe/London:20270831T153000
DTEND;TZID=Europe/London:20270831T203000
DTSTAMP:20260419T213446
CREATED:20260105T155908Z
LAST-MODIFIED:20260105T160649Z
UID:10002529-1819726200-1819744200@www.st-ninians-stonehouse.org.uk
SUMMARY:Girls Brigade
DESCRIPTION:3:15pm – 4:30pm Explorers (P1 – P3)\, \n6:30 – 8:00pm Juniors (P4 – P6) \nand 7:00pm – 8:30pm Brigaders (P7 – S6)
URL:https://www.st-ninians-stonehouse.org.uk/event/girls-brigade-6-2-2-2/2027-08-31
LOCATION:St Ninian’s Church\, 10 Vicars Road\, Stonehouse\, ML9 3EB\, United Kingdom
CATEGORIES:Girls Brigade
ATTACH;FMTTYPE=image/png:https://www.st-ninians-stonehouse.org.uk/wp-content/uploads/2023/08/GB-Restart-Times-YouTube-Thumbnail.png
END:VEVENT
BEGIN:VEVENT
DTSTART;TZID=Europe/London:20270907T153000
DTEND;TZID=Europe/London:20270907T203000
DTSTAMP:20260419T213446
CREATED:20260105T155908Z
LAST-MODIFIED:20260105T160649Z
UID:10002530-1820331000-1820349000@www.st-ninians-stonehouse.org.uk
SUMMARY:Girls Brigade
DESCRIPTION:3:15pm – 4:30pm Explorers (P1 – P3)\, \n6:30 – 8:00pm Juniors (P4 – P6) \nand 7:00pm – 8:30pm Brigaders (P7 – S6)
URL:https://www.st-ninians-stonehouse.org.uk/event/girls-brigade-6-2-2-2/2027-09-07
LOCATION:St Ninian’s Church\, 10 Vicars Road\, Stonehouse\, ML9 3EB\, United Kingdom
CATEGORIES:Girls Brigade
ATTACH;FMTTYPE=image/png:https://www.st-ninians-stonehouse.org.uk/wp-content/uploads/2023/08/GB-Restart-Times-YouTube-Thumbnail.png
END:VEVENT
BEGIN:VEVENT
DTSTART;TZID=Europe/London:20270914T153000
DTEND;TZID=Europe/London:20270914T203000
DTSTAMP:20260419T213446
CREATED:20260105T155908Z
LAST-MODIFIED:20260105T160649Z
UID:10002531-1820935800-1820953800@www.st-ninians-stonehouse.org.uk
SUMMARY:Girls Brigade
DESCRIPTION:3:15pm – 4:30pm Explorers (P1 – P3)\, \n6:30 – 8:00pm Juniors (P4 – P6) \nand 7:00pm – 8:30pm Brigaders (P7 – S6)
URL:https://www.st-ninians-stonehouse.org.uk/event/girls-brigade-6-2-2-2/2027-09-14
LOCATION:St Ninian’s Church\, 10 Vicars Road\, Stonehouse\, ML9 3EB\, United Kingdom
CATEGORIES:Girls Brigade
ATTACH;FMTTYPE=image/png:https://www.st-ninians-stonehouse.org.uk/wp-content/uploads/2023/08/GB-Restart-Times-YouTube-Thumbnail.png
END:VEVENT
BEGIN:VEVENT
DTSTART;TZID=Europe/London:20270921T153000
DTEND;TZID=Europe/London:20270921T203000
DTSTAMP:20260419T213446
CREATED:20260105T155908Z
LAST-MODIFIED:20260105T160649Z
UID:10002532-1821540600-1821558600@www.st-ninians-stonehouse.org.uk
SUMMARY:Girls Brigade
DESCRIPTION:3:15pm – 4:30pm Explorers (P1 – P3)\, \n6:30 – 8:00pm Juniors (P4 – P6) \nand 7:00pm – 8:30pm Brigaders (P7 – S6)
URL:https://www.st-ninians-stonehouse.org.uk/event/girls-brigade-6-2-2-2/2027-09-21
LOCATION:St Ninian’s Church\, 10 Vicars Road\, Stonehouse\, ML9 3EB\, United Kingdom
CATEGORIES:Girls Brigade
ATTACH;FMTTYPE=image/png:https://www.st-ninians-stonehouse.org.uk/wp-content/uploads/2023/08/GB-Restart-Times-YouTube-Thumbnail.png
END:VEVENT
BEGIN:VEVENT
DTSTART;TZID=Europe/London:20270928T153000
DTEND;TZID=Europe/London:20270928T203000
DTSTAMP:20260419T213446
CREATED:20260105T155908Z
LAST-MODIFIED:20260105T160649Z
UID:10002533-1822145400-1822163400@www.st-ninians-stonehouse.org.uk
SUMMARY:Girls Brigade
DESCRIPTION:3:15pm – 4:30pm Explorers (P1 – P3)\, \n6:30 – 8:00pm Juniors (P4 – P6) \nand 7:00pm – 8:30pm Brigaders (P7 – S6)
URL:https://www.st-ninians-stonehouse.org.uk/event/girls-brigade-6-2-2-2/2027-09-28
LOCATION:St Ninian’s Church\, 10 Vicars Road\, Stonehouse\, ML9 3EB\, United Kingdom
CATEGORIES:Girls Brigade
ATTACH;FMTTYPE=image/png:https://www.st-ninians-stonehouse.org.uk/wp-content/uploads/2023/08/GB-Restart-Times-YouTube-Thumbnail.png
END:VEVENT
BEGIN:VEVENT
DTSTART;TZID=Europe/London:20271005T153000
DTEND;TZID=Europe/London:20271005T203000
DTSTAMP:20260419T213446
CREATED:20260105T155908Z
LAST-MODIFIED:20260105T160649Z
UID:10002534-1822750200-1822768200@www.st-ninians-stonehouse.org.uk
SUMMARY:Girls Brigade
DESCRIPTION:3:15pm – 4:30pm Explorers (P1 – P3)\, \n6:30 – 8:00pm Juniors (P4 – P6) \nand 7:00pm – 8:30pm Brigaders (P7 – S6)
URL:https://www.st-ninians-stonehouse.org.uk/event/girls-brigade-6-2-2-2/2027-10-05
LOCATION:St Ninian’s Church\, 10 Vicars Road\, Stonehouse\, ML9 3EB\, United Kingdom
CATEGORIES:Girls Brigade
ATTACH;FMTTYPE=image/png:https://www.st-ninians-stonehouse.org.uk/wp-content/uploads/2023/08/GB-Restart-Times-YouTube-Thumbnail.png
END:VEVENT
BEGIN:VEVENT
DTSTART;TZID=Europe/London:20271012T153000
DTEND;TZID=Europe/London:20271012T203000
DTSTAMP:20260419T213446
CREATED:20260105T155908Z
LAST-MODIFIED:20260105T160649Z
UID:10002535-1823355000-1823373000@www.st-ninians-stonehouse.org.uk
SUMMARY:Girls Brigade
DESCRIPTION:3:15pm – 4:30pm Explorers (P1 – P3)\, \n6:30 – 8:00pm Juniors (P4 – P6) \nand 7:00pm – 8:30pm Brigaders (P7 – S6)
URL:https://www.st-ninians-stonehouse.org.uk/event/girls-brigade-6-2-2-2/2027-10-12
LOCATION:St Ninian’s Church\, 10 Vicars Road\, Stonehouse\, ML9 3EB\, United Kingdom
CATEGORIES:Girls Brigade
ATTACH;FMTTYPE=image/png:https://www.st-ninians-stonehouse.org.uk/wp-content/uploads/2023/08/GB-Restart-Times-YouTube-Thumbnail.png
END:VEVENT
BEGIN:VEVENT
DTSTART;TZID=Europe/London:20271019T153000
DTEND;TZID=Europe/London:20271019T203000
DTSTAMP:20260419T213446
CREATED:20260105T155908Z
LAST-MODIFIED:20260105T160649Z
UID:10002536-1823959800-1823977800@www.st-ninians-stonehouse.org.uk
SUMMARY:Girls Brigade
DESCRIPTION:3:15pm – 4:30pm Explorers (P1 – P3)\, \n6:30 – 8:00pm Juniors (P4 – P6) \nand 7:00pm – 8:30pm Brigaders (P7 – S6)
URL:https://www.st-ninians-stonehouse.org.uk/event/girls-brigade-6-2-2-2/2027-10-19
LOCATION:St Ninian’s Church\, 10 Vicars Road\, Stonehouse\, ML9 3EB\, United Kingdom
CATEGORIES:Girls Brigade
ATTACH;FMTTYPE=image/png:https://www.st-ninians-stonehouse.org.uk/wp-content/uploads/2023/08/GB-Restart-Times-YouTube-Thumbnail.png
END:VEVENT
BEGIN:VEVENT
DTSTART;TZID=Europe/London:20271026T153000
DTEND;TZID=Europe/London:20271026T203000
DTSTAMP:20260419T213446
CREATED:20260105T155908Z
LAST-MODIFIED:20260105T160649Z
UID:10002537-1824564600-1824582600@www.st-ninians-stonehouse.org.uk
SUMMARY:Girls Brigade
DESCRIPTION:3:15pm – 4:30pm Explorers (P1 – P3)\, \n6:30 – 8:00pm Juniors (P4 – P6) \nand 7:00pm – 8:30pm Brigaders (P7 – S6)
URL:https://www.st-ninians-stonehouse.org.uk/event/girls-brigade-6-2-2-2/2027-10-26
LOCATION:St Ninian’s Church\, 10 Vicars Road\, Stonehouse\, ML9 3EB\, United Kingdom
CATEGORIES:Girls Brigade
ATTACH;FMTTYPE=image/png:https://www.st-ninians-stonehouse.org.uk/wp-content/uploads/2023/08/GB-Restart-Times-YouTube-Thumbnail.png
END:VEVENT
BEGIN:VEVENT
DTSTART;TZID=Europe/London:20271102T153000
DTEND;TZID=Europe/London:20271102T203000
DTSTAMP:20260419T213446
CREATED:20260105T155908Z
LAST-MODIFIED:20260105T160649Z
UID:10002538-1825169400-1825187400@www.st-ninians-stonehouse.org.uk
SUMMARY:Girls Brigade
DESCRIPTION:3:15pm – 4:30pm Explorers (P1 – P3)\, \n6:30 – 8:00pm Juniors (P4 – P6) \nand 7:00pm – 8:30pm Brigaders (P7 – S6)
URL:https://www.st-ninians-stonehouse.org.uk/event/girls-brigade-6-2-2-2/2027-11-02
LOCATION:St Ninian’s Church\, 10 Vicars Road\, Stonehouse\, ML9 3EB\, United Kingdom
CATEGORIES:Girls Brigade
ATTACH;FMTTYPE=image/png:https://www.st-ninians-stonehouse.org.uk/wp-content/uploads/2023/08/GB-Restart-Times-YouTube-Thumbnail.png
END:VEVENT
BEGIN:VEVENT
DTSTART;TZID=Europe/London:20271109T153000
DTEND;TZID=Europe/London:20271109T203000
DTSTAMP:20260419T213446
CREATED:20260105T155908Z
LAST-MODIFIED:20260105T160649Z
UID:10002539-1825774200-1825792200@www.st-ninians-stonehouse.org.uk
SUMMARY:Girls Brigade
DESCRIPTION:3:15pm – 4:30pm Explorers (P1 – P3)\, \n6:30 – 8:00pm Juniors (P4 – P6) \nand 7:00pm – 8:30pm Brigaders (P7 – S6)
URL:https://www.st-ninians-stonehouse.org.uk/event/girls-brigade-6-2-2-2/2027-11-09
LOCATION:St Ninian’s Church\, 10 Vicars Road\, Stonehouse\, ML9 3EB\, United Kingdom
CATEGORIES:Girls Brigade
ATTACH;FMTTYPE=image/png:https://www.st-ninians-stonehouse.org.uk/wp-content/uploads/2023/08/GB-Restart-Times-YouTube-Thumbnail.png
END:VEVENT
BEGIN:VEVENT
DTSTART;TZID=Europe/London:20271116T153000
DTEND;TZID=Europe/London:20271116T203000
DTSTAMP:20260419T213446
CREATED:20260105T155908Z
LAST-MODIFIED:20260105T160649Z
UID:10002540-1826379000-1826397000@www.st-ninians-stonehouse.org.uk
SUMMARY:Girls Brigade
DESCRIPTION:3:15pm – 4:30pm Explorers (P1 – P3)\, \n6:30 – 8:00pm Juniors (P4 – P6) \nand 7:00pm – 8:30pm Brigaders (P7 – S6)
URL:https://www.st-ninians-stonehouse.org.uk/event/girls-brigade-6-2-2-2/2027-11-16
LOCATION:St Ninian’s Church\, 10 Vicars Road\, Stonehouse\, ML9 3EB\, United Kingdom
CATEGORIES:Girls Brigade
ATTACH;FMTTYPE=image/png:https://www.st-ninians-stonehouse.org.uk/wp-content/uploads/2023/08/GB-Restart-Times-YouTube-Thumbnail.png
END:VEVENT
BEGIN:VEVENT
DTSTART;TZID=Europe/London:20271123T153000
DTEND;TZID=Europe/London:20271123T203000
DTSTAMP:20260419T213446
CREATED:20260105T155908Z
LAST-MODIFIED:20260105T160649Z
UID:10002541-1826983800-1827001800@www.st-ninians-stonehouse.org.uk
SUMMARY:Girls Brigade
DESCRIPTION:3:15pm – 4:30pm Explorers (P1 – P3)\, \n6:30 – 8:00pm Juniors (P4 – P6) \nand 7:00pm – 8:30pm Brigaders (P7 – S6)
URL:https://www.st-ninians-stonehouse.org.uk/event/girls-brigade-6-2-2-2/2027-11-23
LOCATION:St Ninian’s Church\, 10 Vicars Road\, Stonehouse\, ML9 3EB\, United Kingdom
CATEGORIES:Girls Brigade
ATTACH;FMTTYPE=image/png:https://www.st-ninians-stonehouse.org.uk/wp-content/uploads/2023/08/GB-Restart-Times-YouTube-Thumbnail.png
END:VEVENT
BEGIN:VEVENT
DTSTART;TZID=Europe/London:20271130T153000
DTEND;TZID=Europe/London:20271130T203000
DTSTAMP:20260419T213446
CREATED:20260105T155908Z
LAST-MODIFIED:20260105T160649Z
UID:10002542-1827588600-1827606600@www.st-ninians-stonehouse.org.uk
SUMMARY:Girls Brigade
DESCRIPTION:3:15pm – 4:30pm Explorers (P1 – P3)\, \n6:30 – 8:00pm Juniors (P4 – P6) \nand 7:00pm – 8:30pm Brigaders (P7 – S6)
URL:https://www.st-ninians-stonehouse.org.uk/event/girls-brigade-6-2-2-2/2027-11-30
LOCATION:St Ninian’s Church\, 10 Vicars Road\, Stonehouse\, ML9 3EB\, United Kingdom
CATEGORIES:Girls Brigade
ATTACH;FMTTYPE=image/png:https://www.st-ninians-stonehouse.org.uk/wp-content/uploads/2023/08/GB-Restart-Times-YouTube-Thumbnail.png
END:VEVENT
BEGIN:VEVENT
DTSTART;TZID=Europe/London:20271207T153000
DTEND;TZID=Europe/London:20271207T203000
DTSTAMP:20260419T213446
CREATED:20260105T155908Z
LAST-MODIFIED:20260105T160649Z
UID:10002543-1828193400-1828211400@www.st-ninians-stonehouse.org.uk
SUMMARY:Girls Brigade
DESCRIPTION:3:15pm – 4:30pm Explorers (P1 – P3)\, \n6:30 – 8:00pm Juniors (P4 – P6) \nand 7:00pm – 8:30pm Brigaders (P7 – S6)
URL:https://www.st-ninians-stonehouse.org.uk/event/girls-brigade-6-2-2-2/2027-12-07
LOCATION:St Ninian’s Church\, 10 Vicars Road\, Stonehouse\, ML9 3EB\, United Kingdom
CATEGORIES:Girls Brigade
ATTACH;FMTTYPE=image/png:https://www.st-ninians-stonehouse.org.uk/wp-content/uploads/2023/08/GB-Restart-Times-YouTube-Thumbnail.png
END:VEVENT
BEGIN:VEVENT
DTSTART;TZID=Europe/London:20271214T153000
DTEND;TZID=Europe/London:20271214T203000
DTSTAMP:20260419T213446
CREATED:20260105T155908Z
LAST-MODIFIED:20260105T160649Z
UID:10002544-1828798200-1828816200@www.st-ninians-stonehouse.org.uk
SUMMARY:Girls Brigade
DESCRIPTION:3:15pm – 4:30pm Explorers (P1 – P3)\, \n6:30 – 8:00pm Juniors (P4 – P6) \nand 7:00pm – 8:30pm Brigaders (P7 – S6)
URL:https://www.st-ninians-stonehouse.org.uk/event/girls-brigade-6-2-2-2/2027-12-14
LOCATION:St Ninian’s Church\, 10 Vicars Road\, Stonehouse\, ML9 3EB\, United Kingdom
CATEGORIES:Girls Brigade
ATTACH;FMTTYPE=image/png:https://www.st-ninians-stonehouse.org.uk/wp-content/uploads/2023/08/GB-Restart-Times-YouTube-Thumbnail.png
END:VEVENT
BEGIN:VEVENT
DTSTART;TZID=Europe/London:20271221T153000
DTEND;TZID=Europe/London:20271221T203000
DTSTAMP:20260419T213446
CREATED:20260105T155908Z
LAST-MODIFIED:20260105T160649Z
UID:10002545-1829403000-1829421000@www.st-ninians-stonehouse.org.uk
SUMMARY:Girls Brigade
DESCRIPTION:3:15pm – 4:30pm Explorers (P1 – P3)\, \n6:30 – 8:00pm Juniors (P4 – P6) \nand 7:00pm – 8:30pm Brigaders (P7 – S6)
URL:https://www.st-ninians-stonehouse.org.uk/event/girls-brigade-6-2-2-2/2027-12-21
LOCATION:St Ninian’s Church\, 10 Vicars Road\, Stonehouse\, ML9 3EB\, United Kingdom
CATEGORIES:Girls Brigade
ATTACH;FMTTYPE=image/png:https://www.st-ninians-stonehouse.org.uk/wp-content/uploads/2023/08/GB-Restart-Times-YouTube-Thumbnail.png
END:VEVENT
BEGIN:VEVENT
DTSTART;TZID=Europe/London:20271228T153000
DTEND;TZID=Europe/London:20271228T203000
DTSTAMP:20260419T213446
CREATED:20260105T155908Z
LAST-MODIFIED:20260105T160649Z
UID:10002546-1830007800-1830025800@www.st-ninians-stonehouse.org.uk
SUMMARY:Girls Brigade
DESCRIPTION:3:15pm – 4:30pm Explorers (P1 – P3)\, \n6:30 – 8:00pm Juniors (P4 – P6) \nand 7:00pm – 8:30pm Brigaders (P7 – S6)
URL:https://www.st-ninians-stonehouse.org.uk/event/girls-brigade-6-2-2-2/2027-12-28
LOCATION:St Ninian’s Church\, 10 Vicars Road\, Stonehouse\, ML9 3EB\, United Kingdom
CATEGORIES:Girls Brigade
ATTACH;FMTTYPE=image/png:https://www.st-ninians-stonehouse.org.uk/wp-content/uploads/2023/08/GB-Restart-Times-YouTube-Thumbnail.png
END:VEVENT
BEGIN:VEVENT
DTSTART;TZID=Europe/London:20280104T153000
DTEND;TZID=Europe/London:20280104T203000
DTSTAMP:20260419T213446
CREATED:20260105T155908Z
LAST-MODIFIED:20260105T160649Z
UID:10002547-1830612600-1830630600@www.st-ninians-stonehouse.org.uk
SUMMARY:Girls Brigade
DESCRIPTION:3:15pm – 4:30pm Explorers (P1 – P3)\, \n6:30 – 8:00pm Juniors (P4 – P6) \nand 7:00pm – 8:30pm Brigaders (P7 – S6)
URL:https://www.st-ninians-stonehouse.org.uk/event/girls-brigade-6-2-2-2/2028-01-04
LOCATION:St Ninian’s Church\, 10 Vicars Road\, Stonehouse\, ML9 3EB\, United Kingdom
CATEGORIES:Girls Brigade
ATTACH;FMTTYPE=image/png:https://www.st-ninians-stonehouse.org.uk/wp-content/uploads/2023/08/GB-Restart-Times-YouTube-Thumbnail.png
END:VEVENT
END:VCALENDAR