BEGIN:VCALENDAR
VERSION:2.0
PRODID:-//St Ninian&#039;s Church Stonehouse LEP - ECPv6.15.18//NONSGML v1.0//EN
CALSCALE:GREGORIAN
METHOD:PUBLISH
X-WR-CALNAME:St Ninian&#039;s Church Stonehouse LEP
X-ORIGINAL-URL:https://www.st-ninians-stonehouse.org.uk
X-WR-CALDESC:Events for St Ninian&#039;s Church Stonehouse LEP
REFRESH-INTERVAL;VALUE=DURATION:PT1H
X-Robots-Tag:noindex
X-PUBLISHED-TTL:PT1H
BEGIN:VTIMEZONE
TZID:Europe/London
BEGIN:DAYLIGHT
TZOFFSETFROM:+0000
TZOFFSETTO:+0100
TZNAME:BST
DTSTART:20260329T010000
END:DAYLIGHT
BEGIN:STANDARD
TZOFFSETFROM:+0100
TZOFFSETTO:+0000
TZNAME:GMT
DTSTART:20261025T010000
END:STANDARD
BEGIN:DAYLIGHT
TZOFFSETFROM:+0000
TZOFFSETTO:+0100
TZNAME:BST
DTSTART:20270328T010000
END:DAYLIGHT
BEGIN:STANDARD
TZOFFSETFROM:+0100
TZOFFSETTO:+0000
TZNAME:GMT
DTSTART:20271031T010000
END:STANDARD
BEGIN:DAYLIGHT
TZOFFSETFROM:+0000
TZOFFSETTO:+0100
TZNAME:BST
DTSTART:20280326T010000
END:DAYLIGHT
BEGIN:STANDARD
TZOFFSETFROM:+0100
TZOFFSETTO:+0000
TZNAME:GMT
DTSTART:20281029T010000
END:STANDARD
END:VTIMEZONE
BEGIN:VEVENT
DTSTART;TZID=Europe/London:20270126T153000
DTEND;TZID=Europe/London:20270126T203000
DTSTAMP:20260419T182405
CREATED:20260105T155908Z
LAST-MODIFIED:20260105T160649Z
UID:10002498-1800977400-1800995400@www.st-ninians-stonehouse.org.uk
SUMMARY:Girls Brigade
DESCRIPTION:3:15pm – 4:30pm Explorers (P1 – P3)\, \n6:30 – 8:00pm Juniors (P4 – P6) \nand 7:00pm – 8:30pm Brigaders (P7 – S6)
URL:https://www.st-ninians-stonehouse.org.uk/event/girls-brigade-6-2-2-2/2027-01-26
LOCATION:St Ninian’s Church\, 10 Vicars Road\, Stonehouse\, ML9 3EB\, United Kingdom
CATEGORIES:Girls Brigade
ATTACH;FMTTYPE=image/png:https://www.st-ninians-stonehouse.org.uk/wp-content/uploads/2023/08/GB-Restart-Times-YouTube-Thumbnail.png
END:VEVENT
BEGIN:VEVENT
DTSTART;TZID=Europe/London:20270202T153000
DTEND;TZID=Europe/London:20270202T203000
DTSTAMP:20260419T182405
CREATED:20260105T155908Z
LAST-MODIFIED:20260105T160649Z
UID:10002499-1801582200-1801600200@www.st-ninians-stonehouse.org.uk
SUMMARY:Girls Brigade
DESCRIPTION:3:15pm – 4:30pm Explorers (P1 – P3)\, \n6:30 – 8:00pm Juniors (P4 – P6) \nand 7:00pm – 8:30pm Brigaders (P7 – S6)
URL:https://www.st-ninians-stonehouse.org.uk/event/girls-brigade-6-2-2-2/2027-02-02
LOCATION:St Ninian’s Church\, 10 Vicars Road\, Stonehouse\, ML9 3EB\, United Kingdom
CATEGORIES:Girls Brigade
ATTACH;FMTTYPE=image/png:https://www.st-ninians-stonehouse.org.uk/wp-content/uploads/2023/08/GB-Restart-Times-YouTube-Thumbnail.png
END:VEVENT
BEGIN:VEVENT
DTSTART;TZID=Europe/London:20270209T153000
DTEND;TZID=Europe/London:20270209T203000
DTSTAMP:20260419T182405
CREATED:20260105T155908Z
LAST-MODIFIED:20260105T160649Z
UID:10002500-1802187000-1802205000@www.st-ninians-stonehouse.org.uk
SUMMARY:Girls Brigade
DESCRIPTION:3:15pm – 4:30pm Explorers (P1 – P3)\, \n6:30 – 8:00pm Juniors (P4 – P6) \nand 7:00pm – 8:30pm Brigaders (P7 – S6)
URL:https://www.st-ninians-stonehouse.org.uk/event/girls-brigade-6-2-2-2/2027-02-09
LOCATION:St Ninian’s Church\, 10 Vicars Road\, Stonehouse\, ML9 3EB\, United Kingdom
CATEGORIES:Girls Brigade
ATTACH;FMTTYPE=image/png:https://www.st-ninians-stonehouse.org.uk/wp-content/uploads/2023/08/GB-Restart-Times-YouTube-Thumbnail.png
END:VEVENT
BEGIN:VEVENT
DTSTART;TZID=Europe/London:20270216T153000
DTEND;TZID=Europe/London:20270216T203000
DTSTAMP:20260419T182405
CREATED:20260105T155908Z
LAST-MODIFIED:20260105T160649Z
UID:10002501-1802791800-1802809800@www.st-ninians-stonehouse.org.uk
SUMMARY:Girls Brigade
DESCRIPTION:3:15pm – 4:30pm Explorers (P1 – P3)\, \n6:30 – 8:00pm Juniors (P4 – P6) \nand 7:00pm – 8:30pm Brigaders (P7 – S6)
URL:https://www.st-ninians-stonehouse.org.uk/event/girls-brigade-6-2-2-2/2027-02-16
LOCATION:St Ninian’s Church\, 10 Vicars Road\, Stonehouse\, ML9 3EB\, United Kingdom
CATEGORIES:Girls Brigade
ATTACH;FMTTYPE=image/png:https://www.st-ninians-stonehouse.org.uk/wp-content/uploads/2023/08/GB-Restart-Times-YouTube-Thumbnail.png
END:VEVENT
BEGIN:VEVENT
DTSTART;TZID=Europe/London:20270223T153000
DTEND;TZID=Europe/London:20270223T203000
DTSTAMP:20260419T182405
CREATED:20260105T155908Z
LAST-MODIFIED:20260105T160649Z
UID:10002502-1803396600-1803414600@www.st-ninians-stonehouse.org.uk
SUMMARY:Girls Brigade
DESCRIPTION:3:15pm – 4:30pm Explorers (P1 – P3)\, \n6:30 – 8:00pm Juniors (P4 – P6) \nand 7:00pm – 8:30pm Brigaders (P7 – S6)
URL:https://www.st-ninians-stonehouse.org.uk/event/girls-brigade-6-2-2-2/2027-02-23
LOCATION:St Ninian’s Church\, 10 Vicars Road\, Stonehouse\, ML9 3EB\, United Kingdom
CATEGORIES:Girls Brigade
ATTACH;FMTTYPE=image/png:https://www.st-ninians-stonehouse.org.uk/wp-content/uploads/2023/08/GB-Restart-Times-YouTube-Thumbnail.png
END:VEVENT
BEGIN:VEVENT
DTSTART;TZID=Europe/London:20270302T153000
DTEND;TZID=Europe/London:20270302T203000
DTSTAMP:20260419T182405
CREATED:20260105T155908Z
LAST-MODIFIED:20260105T160649Z
UID:10002503-1804001400-1804019400@www.st-ninians-stonehouse.org.uk
SUMMARY:Girls Brigade
DESCRIPTION:3:15pm – 4:30pm Explorers (P1 – P3)\, \n6:30 – 8:00pm Juniors (P4 – P6) \nand 7:00pm – 8:30pm Brigaders (P7 – S6)
URL:https://www.st-ninians-stonehouse.org.uk/event/girls-brigade-6-2-2-2/2027-03-02
LOCATION:St Ninian’s Church\, 10 Vicars Road\, Stonehouse\, ML9 3EB\, United Kingdom
CATEGORIES:Girls Brigade
ATTACH;FMTTYPE=image/png:https://www.st-ninians-stonehouse.org.uk/wp-content/uploads/2023/08/GB-Restart-Times-YouTube-Thumbnail.png
END:VEVENT
BEGIN:VEVENT
DTSTART;TZID=Europe/London:20270309T153000
DTEND;TZID=Europe/London:20270309T203000
DTSTAMP:20260419T182405
CREATED:20260105T155908Z
LAST-MODIFIED:20260105T160649Z
UID:10002504-1804606200-1804624200@www.st-ninians-stonehouse.org.uk
SUMMARY:Girls Brigade
DESCRIPTION:3:15pm – 4:30pm Explorers (P1 – P3)\, \n6:30 – 8:00pm Juniors (P4 – P6) \nand 7:00pm – 8:30pm Brigaders (P7 – S6)
URL:https://www.st-ninians-stonehouse.org.uk/event/girls-brigade-6-2-2-2/2027-03-09
LOCATION:St Ninian’s Church\, 10 Vicars Road\, Stonehouse\, ML9 3EB\, United Kingdom
CATEGORIES:Girls Brigade
ATTACH;FMTTYPE=image/png:https://www.st-ninians-stonehouse.org.uk/wp-content/uploads/2023/08/GB-Restart-Times-YouTube-Thumbnail.png
END:VEVENT
BEGIN:VEVENT
DTSTART;TZID=Europe/London:20270316T153000
DTEND;TZID=Europe/London:20270316T203000
DTSTAMP:20260419T182405
CREATED:20260105T155908Z
LAST-MODIFIED:20260105T160649Z
UID:10002505-1805211000-1805229000@www.st-ninians-stonehouse.org.uk
SUMMARY:Girls Brigade
DESCRIPTION:3:15pm – 4:30pm Explorers (P1 – P3)\, \n6:30 – 8:00pm Juniors (P4 – P6) \nand 7:00pm – 8:30pm Brigaders (P7 – S6)
URL:https://www.st-ninians-stonehouse.org.uk/event/girls-brigade-6-2-2-2/2027-03-16
LOCATION:St Ninian’s Church\, 10 Vicars Road\, Stonehouse\, ML9 3EB\, United Kingdom
CATEGORIES:Girls Brigade
ATTACH;FMTTYPE=image/png:https://www.st-ninians-stonehouse.org.uk/wp-content/uploads/2023/08/GB-Restart-Times-YouTube-Thumbnail.png
END:VEVENT
BEGIN:VEVENT
DTSTART;TZID=Europe/London:20270323T153000
DTEND;TZID=Europe/London:20270323T203000
DTSTAMP:20260419T182405
CREATED:20260105T155908Z
LAST-MODIFIED:20260105T160649Z
UID:10002506-1805815800-1805833800@www.st-ninians-stonehouse.org.uk
SUMMARY:Girls Brigade
DESCRIPTION:3:15pm – 4:30pm Explorers (P1 – P3)\, \n6:30 – 8:00pm Juniors (P4 – P6) \nand 7:00pm – 8:30pm Brigaders (P7 – S6)
URL:https://www.st-ninians-stonehouse.org.uk/event/girls-brigade-6-2-2-2/2027-03-23
LOCATION:St Ninian’s Church\, 10 Vicars Road\, Stonehouse\, ML9 3EB\, United Kingdom
CATEGORIES:Girls Brigade
ATTACH;FMTTYPE=image/png:https://www.st-ninians-stonehouse.org.uk/wp-content/uploads/2023/08/GB-Restart-Times-YouTube-Thumbnail.png
END:VEVENT
BEGIN:VEVENT
DTSTART;TZID=Europe/London:20270330T153000
DTEND;TZID=Europe/London:20270330T203000
DTSTAMP:20260419T182405
CREATED:20260105T155908Z
LAST-MODIFIED:20260105T160649Z
UID:10002507-1806420600-1806438600@www.st-ninians-stonehouse.org.uk
SUMMARY:Girls Brigade
DESCRIPTION:3:15pm – 4:30pm Explorers (P1 – P3)\, \n6:30 – 8:00pm Juniors (P4 – P6) \nand 7:00pm – 8:30pm Brigaders (P7 – S6)
URL:https://www.st-ninians-stonehouse.org.uk/event/girls-brigade-6-2-2-2/2027-03-30
LOCATION:St Ninian’s Church\, 10 Vicars Road\, Stonehouse\, ML9 3EB\, United Kingdom
CATEGORIES:Girls Brigade
ATTACH;FMTTYPE=image/png:https://www.st-ninians-stonehouse.org.uk/wp-content/uploads/2023/08/GB-Restart-Times-YouTube-Thumbnail.png
END:VEVENT
BEGIN:VEVENT
DTSTART;TZID=Europe/London:20270406T153000
DTEND;TZID=Europe/London:20270406T203000
DTSTAMP:20260419T182405
CREATED:20260105T155908Z
LAST-MODIFIED:20260105T160649Z
UID:10002508-1807025400-1807043400@www.st-ninians-stonehouse.org.uk
SUMMARY:Girls Brigade
DESCRIPTION:3:15pm – 4:30pm Explorers (P1 – P3)\, \n6:30 – 8:00pm Juniors (P4 – P6) \nand 7:00pm – 8:30pm Brigaders (P7 – S6)
URL:https://www.st-ninians-stonehouse.org.uk/event/girls-brigade-6-2-2-2/2027-04-06
LOCATION:St Ninian’s Church\, 10 Vicars Road\, Stonehouse\, ML9 3EB\, United Kingdom
CATEGORIES:Girls Brigade
ATTACH;FMTTYPE=image/png:https://www.st-ninians-stonehouse.org.uk/wp-content/uploads/2023/08/GB-Restart-Times-YouTube-Thumbnail.png
END:VEVENT
BEGIN:VEVENT
DTSTART;TZID=Europe/London:20270413T153000
DTEND;TZID=Europe/London:20270413T203000
DTSTAMP:20260419T182405
CREATED:20260105T155908Z
LAST-MODIFIED:20260105T160649Z
UID:10002509-1807630200-1807648200@www.st-ninians-stonehouse.org.uk
SUMMARY:Girls Brigade
DESCRIPTION:3:15pm – 4:30pm Explorers (P1 – P3)\, \n6:30 – 8:00pm Juniors (P4 – P6) \nand 7:00pm – 8:30pm Brigaders (P7 – S6)
URL:https://www.st-ninians-stonehouse.org.uk/event/girls-brigade-6-2-2-2/2027-04-13
LOCATION:St Ninian’s Church\, 10 Vicars Road\, Stonehouse\, ML9 3EB\, United Kingdom
CATEGORIES:Girls Brigade
ATTACH;FMTTYPE=image/png:https://www.st-ninians-stonehouse.org.uk/wp-content/uploads/2023/08/GB-Restart-Times-YouTube-Thumbnail.png
END:VEVENT
BEGIN:VEVENT
DTSTART;TZID=Europe/London:20270420T153000
DTEND;TZID=Europe/London:20270420T203000
DTSTAMP:20260419T182405
CREATED:20260105T155908Z
LAST-MODIFIED:20260105T160649Z
UID:10002510-1808235000-1808253000@www.st-ninians-stonehouse.org.uk
SUMMARY:Girls Brigade
DESCRIPTION:3:15pm – 4:30pm Explorers (P1 – P3)\, \n6:30 – 8:00pm Juniors (P4 – P6) \nand 7:00pm – 8:30pm Brigaders (P7 – S6)
URL:https://www.st-ninians-stonehouse.org.uk/event/girls-brigade-6-2-2-2/2027-04-20
LOCATION:St Ninian’s Church\, 10 Vicars Road\, Stonehouse\, ML9 3EB\, United Kingdom
CATEGORIES:Girls Brigade
ATTACH;FMTTYPE=image/png:https://www.st-ninians-stonehouse.org.uk/wp-content/uploads/2023/08/GB-Restart-Times-YouTube-Thumbnail.png
END:VEVENT
BEGIN:VEVENT
DTSTART;TZID=Europe/London:20270427T153000
DTEND;TZID=Europe/London:20270427T203000
DTSTAMP:20260419T182405
CREATED:20260105T155908Z
LAST-MODIFIED:20260105T160649Z
UID:10002511-1808839800-1808857800@www.st-ninians-stonehouse.org.uk
SUMMARY:Girls Brigade
DESCRIPTION:3:15pm – 4:30pm Explorers (P1 – P3)\, \n6:30 – 8:00pm Juniors (P4 – P6) \nand 7:00pm – 8:30pm Brigaders (P7 – S6)
URL:https://www.st-ninians-stonehouse.org.uk/event/girls-brigade-6-2-2-2/2027-04-27
LOCATION:St Ninian’s Church\, 10 Vicars Road\, Stonehouse\, ML9 3EB\, United Kingdom
CATEGORIES:Girls Brigade
ATTACH;FMTTYPE=image/png:https://www.st-ninians-stonehouse.org.uk/wp-content/uploads/2023/08/GB-Restart-Times-YouTube-Thumbnail.png
END:VEVENT
BEGIN:VEVENT
DTSTART;TZID=Europe/London:20270504T153000
DTEND;TZID=Europe/London:20270504T203000
DTSTAMP:20260419T182405
CREATED:20260105T155908Z
LAST-MODIFIED:20260105T160649Z
UID:10002512-1809444600-1809462600@www.st-ninians-stonehouse.org.uk
SUMMARY:Girls Brigade
DESCRIPTION:3:15pm – 4:30pm Explorers (P1 – P3)\, \n6:30 – 8:00pm Juniors (P4 – P6) \nand 7:00pm – 8:30pm Brigaders (P7 – S6)
URL:https://www.st-ninians-stonehouse.org.uk/event/girls-brigade-6-2-2-2/2027-05-04
LOCATION:St Ninian’s Church\, 10 Vicars Road\, Stonehouse\, ML9 3EB\, United Kingdom
CATEGORIES:Girls Brigade
ATTACH;FMTTYPE=image/png:https://www.st-ninians-stonehouse.org.uk/wp-content/uploads/2023/08/GB-Restart-Times-YouTube-Thumbnail.png
END:VEVENT
BEGIN:VEVENT
DTSTART;TZID=Europe/London:20270511T153000
DTEND;TZID=Europe/London:20270511T203000
DTSTAMP:20260419T182405
CREATED:20260105T155908Z
LAST-MODIFIED:20260105T160649Z
UID:10002513-1810049400-1810067400@www.st-ninians-stonehouse.org.uk
SUMMARY:Girls Brigade
DESCRIPTION:3:15pm – 4:30pm Explorers (P1 – P3)\, \n6:30 – 8:00pm Juniors (P4 – P6) \nand 7:00pm – 8:30pm Brigaders (P7 – S6)
URL:https://www.st-ninians-stonehouse.org.uk/event/girls-brigade-6-2-2-2/2027-05-11
LOCATION:St Ninian’s Church\, 10 Vicars Road\, Stonehouse\, ML9 3EB\, United Kingdom
CATEGORIES:Girls Brigade
ATTACH;FMTTYPE=image/png:https://www.st-ninians-stonehouse.org.uk/wp-content/uploads/2023/08/GB-Restart-Times-YouTube-Thumbnail.png
END:VEVENT
BEGIN:VEVENT
DTSTART;TZID=Europe/London:20270518T153000
DTEND;TZID=Europe/London:20270518T203000
DTSTAMP:20260419T182405
CREATED:20260105T155908Z
LAST-MODIFIED:20260105T160649Z
UID:10002514-1810654200-1810672200@www.st-ninians-stonehouse.org.uk
SUMMARY:Girls Brigade
DESCRIPTION:3:15pm – 4:30pm Explorers (P1 – P3)\, \n6:30 – 8:00pm Juniors (P4 – P6) \nand 7:00pm – 8:30pm Brigaders (P7 – S6)
URL:https://www.st-ninians-stonehouse.org.uk/event/girls-brigade-6-2-2-2/2027-05-18
LOCATION:St Ninian’s Church\, 10 Vicars Road\, Stonehouse\, ML9 3EB\, United Kingdom
CATEGORIES:Girls Brigade
ATTACH;FMTTYPE=image/png:https://www.st-ninians-stonehouse.org.uk/wp-content/uploads/2023/08/GB-Restart-Times-YouTube-Thumbnail.png
END:VEVENT
BEGIN:VEVENT
DTSTART;TZID=Europe/London:20270525T153000
DTEND;TZID=Europe/London:20270525T203000
DTSTAMP:20260419T182405
CREATED:20260105T155908Z
LAST-MODIFIED:20260105T160649Z
UID:10002515-1811259000-1811277000@www.st-ninians-stonehouse.org.uk
SUMMARY:Girls Brigade
DESCRIPTION:3:15pm – 4:30pm Explorers (P1 – P3)\, \n6:30 – 8:00pm Juniors (P4 – P6) \nand 7:00pm – 8:30pm Brigaders (P7 – S6)
URL:https://www.st-ninians-stonehouse.org.uk/event/girls-brigade-6-2-2-2/2027-05-25
LOCATION:St Ninian’s Church\, 10 Vicars Road\, Stonehouse\, ML9 3EB\, United Kingdom
CATEGORIES:Girls Brigade
ATTACH;FMTTYPE=image/png:https://www.st-ninians-stonehouse.org.uk/wp-content/uploads/2023/08/GB-Restart-Times-YouTube-Thumbnail.png
END:VEVENT
BEGIN:VEVENT
DTSTART;TZID=Europe/London:20270601T153000
DTEND;TZID=Europe/London:20270601T203000
DTSTAMP:20260419T182405
CREATED:20260105T155908Z
LAST-MODIFIED:20260105T160649Z
UID:10002516-1811863800-1811881800@www.st-ninians-stonehouse.org.uk
SUMMARY:Girls Brigade
DESCRIPTION:3:15pm – 4:30pm Explorers (P1 – P3)\, \n6:30 – 8:00pm Juniors (P4 – P6) \nand 7:00pm – 8:30pm Brigaders (P7 – S6)
URL:https://www.st-ninians-stonehouse.org.uk/event/girls-brigade-6-2-2-2/2027-06-01
LOCATION:St Ninian’s Church\, 10 Vicars Road\, Stonehouse\, ML9 3EB\, United Kingdom
CATEGORIES:Girls Brigade
ATTACH;FMTTYPE=image/png:https://www.st-ninians-stonehouse.org.uk/wp-content/uploads/2023/08/GB-Restart-Times-YouTube-Thumbnail.png
END:VEVENT
BEGIN:VEVENT
DTSTART;TZID=Europe/London:20270608T153000
DTEND;TZID=Europe/London:20270608T203000
DTSTAMP:20260419T182405
CREATED:20260105T155908Z
LAST-MODIFIED:20260105T160649Z
UID:10002517-1812468600-1812486600@www.st-ninians-stonehouse.org.uk
SUMMARY:Girls Brigade
DESCRIPTION:3:15pm – 4:30pm Explorers (P1 – P3)\, \n6:30 – 8:00pm Juniors (P4 – P6) \nand 7:00pm – 8:30pm Brigaders (P7 – S6)
URL:https://www.st-ninians-stonehouse.org.uk/event/girls-brigade-6-2-2-2/2027-06-08
LOCATION:St Ninian’s Church\, 10 Vicars Road\, Stonehouse\, ML9 3EB\, United Kingdom
CATEGORIES:Girls Brigade
ATTACH;FMTTYPE=image/png:https://www.st-ninians-stonehouse.org.uk/wp-content/uploads/2023/08/GB-Restart-Times-YouTube-Thumbnail.png
END:VEVENT
BEGIN:VEVENT
DTSTART;TZID=Europe/London:20270615T153000
DTEND;TZID=Europe/London:20270615T203000
DTSTAMP:20260419T182405
CREATED:20260105T155908Z
LAST-MODIFIED:20260105T160649Z
UID:10002518-1813073400-1813091400@www.st-ninians-stonehouse.org.uk
SUMMARY:Girls Brigade
DESCRIPTION:3:15pm – 4:30pm Explorers (P1 – P3)\, \n6:30 – 8:00pm Juniors (P4 – P6) \nand 7:00pm – 8:30pm Brigaders (P7 – S6)
URL:https://www.st-ninians-stonehouse.org.uk/event/girls-brigade-6-2-2-2/2027-06-15
LOCATION:St Ninian’s Church\, 10 Vicars Road\, Stonehouse\, ML9 3EB\, United Kingdom
CATEGORIES:Girls Brigade
ATTACH;FMTTYPE=image/png:https://www.st-ninians-stonehouse.org.uk/wp-content/uploads/2023/08/GB-Restart-Times-YouTube-Thumbnail.png
END:VEVENT
BEGIN:VEVENT
DTSTART;TZID=Europe/London:20270622T153000
DTEND;TZID=Europe/London:20270622T203000
DTSTAMP:20260419T182405
CREATED:20260105T155908Z
LAST-MODIFIED:20260105T160649Z
UID:10002519-1813678200-1813696200@www.st-ninians-stonehouse.org.uk
SUMMARY:Girls Brigade
DESCRIPTION:3:15pm – 4:30pm Explorers (P1 – P3)\, \n6:30 – 8:00pm Juniors (P4 – P6) \nand 7:00pm – 8:30pm Brigaders (P7 – S6)
URL:https://www.st-ninians-stonehouse.org.uk/event/girls-brigade-6-2-2-2/2027-06-22
LOCATION:St Ninian’s Church\, 10 Vicars Road\, Stonehouse\, ML9 3EB\, United Kingdom
CATEGORIES:Girls Brigade
ATTACH;FMTTYPE=image/png:https://www.st-ninians-stonehouse.org.uk/wp-content/uploads/2023/08/GB-Restart-Times-YouTube-Thumbnail.png
END:VEVENT
BEGIN:VEVENT
DTSTART;TZID=Europe/London:20270629T153000
DTEND;TZID=Europe/London:20270629T203000
DTSTAMP:20260419T182405
CREATED:20260105T155908Z
LAST-MODIFIED:20260105T160649Z
UID:10002520-1814283000-1814301000@www.st-ninians-stonehouse.org.uk
SUMMARY:Girls Brigade
DESCRIPTION:3:15pm – 4:30pm Explorers (P1 – P3)\, \n6:30 – 8:00pm Juniors (P4 – P6) \nand 7:00pm – 8:30pm Brigaders (P7 – S6)
URL:https://www.st-ninians-stonehouse.org.uk/event/girls-brigade-6-2-2-2/2027-06-29
LOCATION:St Ninian’s Church\, 10 Vicars Road\, Stonehouse\, ML9 3EB\, United Kingdom
CATEGORIES:Girls Brigade
ATTACH;FMTTYPE=image/png:https://www.st-ninians-stonehouse.org.uk/wp-content/uploads/2023/08/GB-Restart-Times-YouTube-Thumbnail.png
END:VEVENT
BEGIN:VEVENT
DTSTART;TZID=Europe/London:20270706T153000
DTEND;TZID=Europe/London:20270706T203000
DTSTAMP:20260419T182405
CREATED:20260105T155908Z
LAST-MODIFIED:20260105T160649Z
UID:10002521-1814887800-1814905800@www.st-ninians-stonehouse.org.uk
SUMMARY:Girls Brigade
DESCRIPTION:3:15pm – 4:30pm Explorers (P1 – P3)\, \n6:30 – 8:00pm Juniors (P4 – P6) \nand 7:00pm – 8:30pm Brigaders (P7 – S6)
URL:https://www.st-ninians-stonehouse.org.uk/event/girls-brigade-6-2-2-2/2027-07-06
LOCATION:St Ninian’s Church\, 10 Vicars Road\, Stonehouse\, ML9 3EB\, United Kingdom
CATEGORIES:Girls Brigade
ATTACH;FMTTYPE=image/png:https://www.st-ninians-stonehouse.org.uk/wp-content/uploads/2023/08/GB-Restart-Times-YouTube-Thumbnail.png
END:VEVENT
BEGIN:VEVENT
DTSTART;TZID=Europe/London:20270713T153000
DTEND;TZID=Europe/London:20270713T203000
DTSTAMP:20260419T182405
CREATED:20260105T155908Z
LAST-MODIFIED:20260105T160649Z
UID:10002522-1815492600-1815510600@www.st-ninians-stonehouse.org.uk
SUMMARY:Girls Brigade
DESCRIPTION:3:15pm – 4:30pm Explorers (P1 – P3)\, \n6:30 – 8:00pm Juniors (P4 – P6) \nand 7:00pm – 8:30pm Brigaders (P7 – S6)
URL:https://www.st-ninians-stonehouse.org.uk/event/girls-brigade-6-2-2-2/2027-07-13
LOCATION:St Ninian’s Church\, 10 Vicars Road\, Stonehouse\, ML9 3EB\, United Kingdom
CATEGORIES:Girls Brigade
ATTACH;FMTTYPE=image/png:https://www.st-ninians-stonehouse.org.uk/wp-content/uploads/2023/08/GB-Restart-Times-YouTube-Thumbnail.png
END:VEVENT
BEGIN:VEVENT
DTSTART;TZID=Europe/London:20270720T153000
DTEND;TZID=Europe/London:20270720T203000
DTSTAMP:20260419T182405
CREATED:20260105T155908Z
LAST-MODIFIED:20260105T160649Z
UID:10002523-1816097400-1816115400@www.st-ninians-stonehouse.org.uk
SUMMARY:Girls Brigade
DESCRIPTION:3:15pm – 4:30pm Explorers (P1 – P3)\, \n6:30 – 8:00pm Juniors (P4 – P6) \nand 7:00pm – 8:30pm Brigaders (P7 – S6)
URL:https://www.st-ninians-stonehouse.org.uk/event/girls-brigade-6-2-2-2/2027-07-20
LOCATION:St Ninian’s Church\, 10 Vicars Road\, Stonehouse\, ML9 3EB\, United Kingdom
CATEGORIES:Girls Brigade
ATTACH;FMTTYPE=image/png:https://www.st-ninians-stonehouse.org.uk/wp-content/uploads/2023/08/GB-Restart-Times-YouTube-Thumbnail.png
END:VEVENT
BEGIN:VEVENT
DTSTART;TZID=Europe/London:20270727T153000
DTEND;TZID=Europe/London:20270727T203000
DTSTAMP:20260419T182405
CREATED:20260105T155908Z
LAST-MODIFIED:20260105T160649Z
UID:10002524-1816702200-1816720200@www.st-ninians-stonehouse.org.uk
SUMMARY:Girls Brigade
DESCRIPTION:3:15pm – 4:30pm Explorers (P1 – P3)\, \n6:30 – 8:00pm Juniors (P4 – P6) \nand 7:00pm – 8:30pm Brigaders (P7 – S6)
URL:https://www.st-ninians-stonehouse.org.uk/event/girls-brigade-6-2-2-2/2027-07-27
LOCATION:St Ninian’s Church\, 10 Vicars Road\, Stonehouse\, ML9 3EB\, United Kingdom
CATEGORIES:Girls Brigade
ATTACH;FMTTYPE=image/png:https://www.st-ninians-stonehouse.org.uk/wp-content/uploads/2023/08/GB-Restart-Times-YouTube-Thumbnail.png
END:VEVENT
BEGIN:VEVENT
DTSTART;TZID=Europe/London:20270803T153000
DTEND;TZID=Europe/London:20270803T203000
DTSTAMP:20260419T182405
CREATED:20260105T155908Z
LAST-MODIFIED:20260105T160649Z
UID:10002525-1817307000-1817325000@www.st-ninians-stonehouse.org.uk
SUMMARY:Girls Brigade
DESCRIPTION:3:15pm – 4:30pm Explorers (P1 – P3)\, \n6:30 – 8:00pm Juniors (P4 – P6) \nand 7:00pm – 8:30pm Brigaders (P7 – S6)
URL:https://www.st-ninians-stonehouse.org.uk/event/girls-brigade-6-2-2-2/2027-08-03
LOCATION:St Ninian’s Church\, 10 Vicars Road\, Stonehouse\, ML9 3EB\, United Kingdom
CATEGORIES:Girls Brigade
ATTACH;FMTTYPE=image/png:https://www.st-ninians-stonehouse.org.uk/wp-content/uploads/2023/08/GB-Restart-Times-YouTube-Thumbnail.png
END:VEVENT
BEGIN:VEVENT
DTSTART;TZID=Europe/London:20270810T153000
DTEND;TZID=Europe/London:20270810T203000
DTSTAMP:20260419T182405
CREATED:20260105T155908Z
LAST-MODIFIED:20260105T160649Z
UID:10002526-1817911800-1817929800@www.st-ninians-stonehouse.org.uk
SUMMARY:Girls Brigade
DESCRIPTION:3:15pm – 4:30pm Explorers (P1 – P3)\, \n6:30 – 8:00pm Juniors (P4 – P6) \nand 7:00pm – 8:30pm Brigaders (P7 – S6)
URL:https://www.st-ninians-stonehouse.org.uk/event/girls-brigade-6-2-2-2/2027-08-10
LOCATION:St Ninian’s Church\, 10 Vicars Road\, Stonehouse\, ML9 3EB\, United Kingdom
CATEGORIES:Girls Brigade
ATTACH;FMTTYPE=image/png:https://www.st-ninians-stonehouse.org.uk/wp-content/uploads/2023/08/GB-Restart-Times-YouTube-Thumbnail.png
END:VEVENT
BEGIN:VEVENT
DTSTART;TZID=Europe/London:20270817T153000
DTEND;TZID=Europe/London:20270817T203000
DTSTAMP:20260419T182405
CREATED:20260105T155908Z
LAST-MODIFIED:20260105T160649Z
UID:10002527-1818516600-1818534600@www.st-ninians-stonehouse.org.uk
SUMMARY:Girls Brigade
DESCRIPTION:3:15pm – 4:30pm Explorers (P1 – P3)\, \n6:30 – 8:00pm Juniors (P4 – P6) \nand 7:00pm – 8:30pm Brigaders (P7 – S6)
URL:https://www.st-ninians-stonehouse.org.uk/event/girls-brigade-6-2-2-2/2027-08-17
LOCATION:St Ninian’s Church\, 10 Vicars Road\, Stonehouse\, ML9 3EB\, United Kingdom
CATEGORIES:Girls Brigade
ATTACH;FMTTYPE=image/png:https://www.st-ninians-stonehouse.org.uk/wp-content/uploads/2023/08/GB-Restart-Times-YouTube-Thumbnail.png
END:VEVENT
END:VCALENDAR