BEGIN:VCALENDAR
VERSION:2.0
PRODID:-//St Ninian&#039;s Church Stonehouse LEP - ECPv6.15.18//NONSGML v1.0//EN
CALSCALE:GREGORIAN
METHOD:PUBLISH
X-ORIGINAL-URL:https://www.st-ninians-stonehouse.org.uk
X-WR-CALDESC:Events for St Ninian&#039;s Church Stonehouse LEP
REFRESH-INTERVAL;VALUE=DURATION:PT1H
X-Robots-Tag:noindex
X-PUBLISHED-TTL:PT1H
BEGIN:VTIMEZONE
TZID:Europe/London
BEGIN:DAYLIGHT
TZOFFSETFROM:+0000
TZOFFSETTO:+0100
TZNAME:BST
DTSTART:20260329T010000
END:DAYLIGHT
BEGIN:STANDARD
TZOFFSETFROM:+0100
TZOFFSETTO:+0000
TZNAME:GMT
DTSTART:20261025T010000
END:STANDARD
BEGIN:DAYLIGHT
TZOFFSETFROM:+0000
TZOFFSETTO:+0100
TZNAME:BST
DTSTART:20270328T010000
END:DAYLIGHT
BEGIN:STANDARD
TZOFFSETFROM:+0100
TZOFFSETTO:+0000
TZNAME:GMT
DTSTART:20271031T010000
END:STANDARD
BEGIN:DAYLIGHT
TZOFFSETFROM:+0000
TZOFFSETTO:+0100
TZNAME:BST
DTSTART:20280326T010000
END:DAYLIGHT
BEGIN:STANDARD
TZOFFSETFROM:+0100
TZOFFSETTO:+0000
TZNAME:GMT
DTSTART:20281029T010000
END:STANDARD
END:VTIMEZONE
BEGIN:VEVENT
DTSTART;TZID=Europe/London:20270316T100000
DTEND;TZID=Europe/London:20270316T113000
DTSTAMP:20260420T004442
CREATED:20241231T153422Z
LAST-MODIFIED:20251211T143636Z
UID:10003952-1805191200-1805196600@www.st-ninians-stonehouse.org.uk
SUMMARY:Coffee Morning
DESCRIPTION:Coffee (and tea)\, cakes and chat!
URL:https://www.st-ninians-stonehouse.org.uk/event/coffee-morning-20-2/2027-03-16
LOCATION:St Ninian’s Church\, 10 Vicars Road\, Stonehouse\, ML9 3EB\, United Kingdom
CATEGORIES:coffee morning,community
ATTACH;FMTTYPE=image/png:https://www.st-ninians-stonehouse.org.uk/wp-content/uploads/2023/04/coffee-morning-Video-2.png
END:VEVENT
BEGIN:VEVENT
DTSTART;TZID=Europe/London:20270323T100000
DTEND;TZID=Europe/London:20270323T113000
DTSTAMP:20260420T004442
CREATED:20241231T153422Z
LAST-MODIFIED:20251211T143636Z
UID:10003953-1805796000-1805801400@www.st-ninians-stonehouse.org.uk
SUMMARY:Coffee Morning
DESCRIPTION:Coffee (and tea)\, cakes and chat!
URL:https://www.st-ninians-stonehouse.org.uk/event/coffee-morning-20-2/2027-03-23
LOCATION:St Ninian’s Church\, 10 Vicars Road\, Stonehouse\, ML9 3EB\, United Kingdom
CATEGORIES:coffee morning,community
ATTACH;FMTTYPE=image/png:https://www.st-ninians-stonehouse.org.uk/wp-content/uploads/2023/04/coffee-morning-Video-2.png
END:VEVENT
BEGIN:VEVENT
DTSTART;TZID=Europe/London:20270325T190000
DTEND;TZID=Europe/London:20270325T220000
DTSTAMP:20260420T004442
CREATED:20230816T103057Z
LAST-MODIFIED:20251229T164502Z
UID:10002956-1806001200-1806012000@www.st-ninians-stonehouse.org.uk
SUMMARY:Hope Cafe Too
DESCRIPTION:A Peer Support group facilitated by Jenna Hardwood of Lene on Me.
URL:https://www.st-ninians-stonehouse.org.uk/event/hope-cafe-too-5/2027-03-25
CATEGORIES:community,mental health
ATTACH;FMTTYPE=image/png:https://www.st-ninians-stonehouse.org.uk/wp-content/uploads/2023/08/Hope-Cafe-Video.png
END:VEVENT
BEGIN:VEVENT
DTSTART;TZID=Europe/London:20270330T100000
DTEND;TZID=Europe/London:20270330T113000
DTSTAMP:20260420T004442
CREATED:20241231T153422Z
LAST-MODIFIED:20251211T143636Z
UID:10003954-1806400800-1806406200@www.st-ninians-stonehouse.org.uk
SUMMARY:Coffee Morning
DESCRIPTION:Coffee (and tea)\, cakes and chat!
URL:https://www.st-ninians-stonehouse.org.uk/event/coffee-morning-20-2/2027-03-30
LOCATION:St Ninian’s Church\, 10 Vicars Road\, Stonehouse\, ML9 3EB\, United Kingdom
CATEGORIES:coffee morning,community
ATTACH;FMTTYPE=image/png:https://www.st-ninians-stonehouse.org.uk/wp-content/uploads/2023/04/coffee-morning-Video-2.png
END:VEVENT
BEGIN:VEVENT
DTSTART;TZID=Europe/London:20270406T100000
DTEND;TZID=Europe/London:20270406T113000
DTSTAMP:20260420T004442
CREATED:20241231T153422Z
LAST-MODIFIED:20251211T143636Z
UID:10003955-1807005600-1807011000@www.st-ninians-stonehouse.org.uk
SUMMARY:Coffee Morning
DESCRIPTION:Coffee (and tea)\, cakes and chat!
URL:https://www.st-ninians-stonehouse.org.uk/event/coffee-morning-20-2/2027-04-06
LOCATION:St Ninian’s Church\, 10 Vicars Road\, Stonehouse\, ML9 3EB\, United Kingdom
CATEGORIES:coffee morning,community
ATTACH;FMTTYPE=image/png:https://www.st-ninians-stonehouse.org.uk/wp-content/uploads/2023/04/coffee-morning-Video-2.png
END:VEVENT
BEGIN:VEVENT
DTSTART;TZID=Europe/London:20270408T190000
DTEND;TZID=Europe/London:20270408T220000
DTSTAMP:20260420T004442
CREATED:20230816T103057Z
LAST-MODIFIED:20251229T164502Z
UID:10002957-1807210800-1807221600@www.st-ninians-stonehouse.org.uk
SUMMARY:Hope Cafe Too
DESCRIPTION:A Peer Support group facilitated by Jenna Hardwood of Lene on Me.
URL:https://www.st-ninians-stonehouse.org.uk/event/hope-cafe-too-5/2027-04-08
CATEGORIES:community,mental health
ATTACH;FMTTYPE=image/png:https://www.st-ninians-stonehouse.org.uk/wp-content/uploads/2023/08/Hope-Cafe-Video.png
END:VEVENT
BEGIN:VEVENT
DTSTART;TZID=Europe/London:20270413T100000
DTEND;TZID=Europe/London:20270413T113000
DTSTAMP:20260420T004442
CREATED:20241231T153422Z
LAST-MODIFIED:20251211T143636Z
UID:10003956-1807610400-1807615800@www.st-ninians-stonehouse.org.uk
SUMMARY:Coffee Morning
DESCRIPTION:Coffee (and tea)\, cakes and chat!
URL:https://www.st-ninians-stonehouse.org.uk/event/coffee-morning-20-2/2027-04-13
LOCATION:St Ninian’s Church\, 10 Vicars Road\, Stonehouse\, ML9 3EB\, United Kingdom
CATEGORIES:coffee morning,community
ATTACH;FMTTYPE=image/png:https://www.st-ninians-stonehouse.org.uk/wp-content/uploads/2023/04/coffee-morning-Video-2.png
END:VEVENT
BEGIN:VEVENT
DTSTART;TZID=Europe/London:20270420T100000
DTEND;TZID=Europe/London:20270420T113000
DTSTAMP:20260420T004442
CREATED:20241231T153422Z
LAST-MODIFIED:20251211T143636Z
UID:10003957-1808215200-1808220600@www.st-ninians-stonehouse.org.uk
SUMMARY:Coffee Morning
DESCRIPTION:Coffee (and tea)\, cakes and chat!
URL:https://www.st-ninians-stonehouse.org.uk/event/coffee-morning-20-2/2027-04-20
LOCATION:St Ninian’s Church\, 10 Vicars Road\, Stonehouse\, ML9 3EB\, United Kingdom
CATEGORIES:coffee morning,community
ATTACH;FMTTYPE=image/png:https://www.st-ninians-stonehouse.org.uk/wp-content/uploads/2023/04/coffee-morning-Video-2.png
END:VEVENT
BEGIN:VEVENT
DTSTART;TZID=Europe/London:20270422T190000
DTEND;TZID=Europe/London:20270422T220000
DTSTAMP:20260420T004442
CREATED:20230816T103057Z
LAST-MODIFIED:20251229T164502Z
UID:10002958-1808420400-1808431200@www.st-ninians-stonehouse.org.uk
SUMMARY:Hope Cafe Too
DESCRIPTION:A Peer Support group facilitated by Jenna Hardwood of Lene on Me.
URL:https://www.st-ninians-stonehouse.org.uk/event/hope-cafe-too-5/2027-04-22
CATEGORIES:community,mental health
ATTACH;FMTTYPE=image/png:https://www.st-ninians-stonehouse.org.uk/wp-content/uploads/2023/08/Hope-Cafe-Video.png
END:VEVENT
BEGIN:VEVENT
DTSTART;TZID=Europe/London:20270427T100000
DTEND;TZID=Europe/London:20270427T113000
DTSTAMP:20260420T004442
CREATED:20241231T153422Z
LAST-MODIFIED:20251211T143636Z
UID:10003958-1808820000-1808825400@www.st-ninians-stonehouse.org.uk
SUMMARY:Coffee Morning
DESCRIPTION:Coffee (and tea)\, cakes and chat!
URL:https://www.st-ninians-stonehouse.org.uk/event/coffee-morning-20-2/2027-04-27
LOCATION:St Ninian’s Church\, 10 Vicars Road\, Stonehouse\, ML9 3EB\, United Kingdom
CATEGORIES:coffee morning,community
ATTACH;FMTTYPE=image/png:https://www.st-ninians-stonehouse.org.uk/wp-content/uploads/2023/04/coffee-morning-Video-2.png
END:VEVENT
BEGIN:VEVENT
DTSTART;TZID=Europe/London:20270504T100000
DTEND;TZID=Europe/London:20270504T113000
DTSTAMP:20260420T004442
CREATED:20241231T153422Z
LAST-MODIFIED:20251211T143636Z
UID:10003959-1809424800-1809430200@www.st-ninians-stonehouse.org.uk
SUMMARY:Coffee Morning
DESCRIPTION:Coffee (and tea)\, cakes and chat!
URL:https://www.st-ninians-stonehouse.org.uk/event/coffee-morning-20-2/2027-05-04
LOCATION:St Ninian’s Church\, 10 Vicars Road\, Stonehouse\, ML9 3EB\, United Kingdom
CATEGORIES:coffee morning,community
ATTACH;FMTTYPE=image/png:https://www.st-ninians-stonehouse.org.uk/wp-content/uploads/2023/04/coffee-morning-Video-2.png
END:VEVENT
BEGIN:VEVENT
DTSTART;TZID=Europe/London:20270506T190000
DTEND;TZID=Europe/London:20270506T220000
DTSTAMP:20260420T004442
CREATED:20230816T103057Z
LAST-MODIFIED:20251229T164502Z
UID:10002959-1809630000-1809640800@www.st-ninians-stonehouse.org.uk
SUMMARY:Hope Cafe Too
DESCRIPTION:A Peer Support group facilitated by Jenna Hardwood of Lene on Me.
URL:https://www.st-ninians-stonehouse.org.uk/event/hope-cafe-too-5/2027-05-06
CATEGORIES:community,mental health
ATTACH;FMTTYPE=image/png:https://www.st-ninians-stonehouse.org.uk/wp-content/uploads/2023/08/Hope-Cafe-Video.png
END:VEVENT
BEGIN:VEVENT
DTSTART;TZID=Europe/London:20270511T100000
DTEND;TZID=Europe/London:20270511T113000
DTSTAMP:20260420T004442
CREATED:20241231T153422Z
LAST-MODIFIED:20251211T143636Z
UID:10003960-1810029600-1810035000@www.st-ninians-stonehouse.org.uk
SUMMARY:Coffee Morning
DESCRIPTION:Coffee (and tea)\, cakes and chat!
URL:https://www.st-ninians-stonehouse.org.uk/event/coffee-morning-20-2/2027-05-11
LOCATION:St Ninian’s Church\, 10 Vicars Road\, Stonehouse\, ML9 3EB\, United Kingdom
CATEGORIES:coffee morning,community
ATTACH;FMTTYPE=image/png:https://www.st-ninians-stonehouse.org.uk/wp-content/uploads/2023/04/coffee-morning-Video-2.png
END:VEVENT
BEGIN:VEVENT
DTSTART;TZID=Europe/London:20270518T100000
DTEND;TZID=Europe/London:20270518T113000
DTSTAMP:20260420T004442
CREATED:20241231T153422Z
LAST-MODIFIED:20251211T143636Z
UID:10003961-1810634400-1810639800@www.st-ninians-stonehouse.org.uk
SUMMARY:Coffee Morning
DESCRIPTION:Coffee (and tea)\, cakes and chat!
URL:https://www.st-ninians-stonehouse.org.uk/event/coffee-morning-20-2/2027-05-18
LOCATION:St Ninian’s Church\, 10 Vicars Road\, Stonehouse\, ML9 3EB\, United Kingdom
CATEGORIES:coffee morning,community
ATTACH;FMTTYPE=image/png:https://www.st-ninians-stonehouse.org.uk/wp-content/uploads/2023/04/coffee-morning-Video-2.png
END:VEVENT
BEGIN:VEVENT
DTSTART;TZID=Europe/London:20270520T190000
DTEND;TZID=Europe/London:20270520T220000
DTSTAMP:20260420T004442
CREATED:20230816T103057Z
LAST-MODIFIED:20251229T164502Z
UID:10002960-1810839600-1810850400@www.st-ninians-stonehouse.org.uk
SUMMARY:Hope Cafe Too
DESCRIPTION:A Peer Support group facilitated by Jenna Hardwood of Lene on Me.
URL:https://www.st-ninians-stonehouse.org.uk/event/hope-cafe-too-5/2027-05-20
CATEGORIES:community,mental health
ATTACH;FMTTYPE=image/png:https://www.st-ninians-stonehouse.org.uk/wp-content/uploads/2023/08/Hope-Cafe-Video.png
END:VEVENT
BEGIN:VEVENT
DTSTART;TZID=Europe/London:20270525T100000
DTEND;TZID=Europe/London:20270525T113000
DTSTAMP:20260420T004442
CREATED:20241231T153422Z
LAST-MODIFIED:20251211T143636Z
UID:10003962-1811239200-1811244600@www.st-ninians-stonehouse.org.uk
SUMMARY:Coffee Morning
DESCRIPTION:Coffee (and tea)\, cakes and chat!
URL:https://www.st-ninians-stonehouse.org.uk/event/coffee-morning-20-2/2027-05-25
LOCATION:St Ninian’s Church\, 10 Vicars Road\, Stonehouse\, ML9 3EB\, United Kingdom
CATEGORIES:coffee morning,community
ATTACH;FMTTYPE=image/png:https://www.st-ninians-stonehouse.org.uk/wp-content/uploads/2023/04/coffee-morning-Video-2.png
END:VEVENT
BEGIN:VEVENT
DTSTART;TZID=Europe/London:20270601T100000
DTEND;TZID=Europe/London:20270601T113000
DTSTAMP:20260420T004442
CREATED:20241231T153422Z
LAST-MODIFIED:20251211T143636Z
UID:10003963-1811844000-1811849400@www.st-ninians-stonehouse.org.uk
SUMMARY:Coffee Morning
DESCRIPTION:Coffee (and tea)\, cakes and chat!
URL:https://www.st-ninians-stonehouse.org.uk/event/coffee-morning-20-2/2027-06-01
LOCATION:St Ninian’s Church\, 10 Vicars Road\, Stonehouse\, ML9 3EB\, United Kingdom
CATEGORIES:coffee morning,community
ATTACH;FMTTYPE=image/png:https://www.st-ninians-stonehouse.org.uk/wp-content/uploads/2023/04/coffee-morning-Video-2.png
END:VEVENT
BEGIN:VEVENT
DTSTART;TZID=Europe/London:20270603T190000
DTEND;TZID=Europe/London:20270603T220000
DTSTAMP:20260420T004442
CREATED:20230816T103057Z
LAST-MODIFIED:20251229T164502Z
UID:10002961-1812049200-1812060000@www.st-ninians-stonehouse.org.uk
SUMMARY:Hope Cafe Too
DESCRIPTION:A Peer Support group facilitated by Jenna Hardwood of Lene on Me.
URL:https://www.st-ninians-stonehouse.org.uk/event/hope-cafe-too-5/2027-06-03
CATEGORIES:community,mental health
ATTACH;FMTTYPE=image/png:https://www.st-ninians-stonehouse.org.uk/wp-content/uploads/2023/08/Hope-Cafe-Video.png
END:VEVENT
BEGIN:VEVENT
DTSTART;TZID=Europe/London:20270608T100000
DTEND;TZID=Europe/London:20270608T113000
DTSTAMP:20260420T004442
CREATED:20241231T153422Z
LAST-MODIFIED:20251211T143636Z
UID:10003964-1812448800-1812454200@www.st-ninians-stonehouse.org.uk
SUMMARY:Coffee Morning
DESCRIPTION:Coffee (and tea)\, cakes and chat!
URL:https://www.st-ninians-stonehouse.org.uk/event/coffee-morning-20-2/2027-06-08
LOCATION:St Ninian’s Church\, 10 Vicars Road\, Stonehouse\, ML9 3EB\, United Kingdom
CATEGORIES:coffee morning,community
ATTACH;FMTTYPE=image/png:https://www.st-ninians-stonehouse.org.uk/wp-content/uploads/2023/04/coffee-morning-Video-2.png
END:VEVENT
BEGIN:VEVENT
DTSTART;TZID=Europe/London:20270615T100000
DTEND;TZID=Europe/London:20270615T113000
DTSTAMP:20260420T004442
CREATED:20241231T153422Z
LAST-MODIFIED:20251211T143636Z
UID:10003965-1813053600-1813059000@www.st-ninians-stonehouse.org.uk
SUMMARY:Coffee Morning
DESCRIPTION:Coffee (and tea)\, cakes and chat!
URL:https://www.st-ninians-stonehouse.org.uk/event/coffee-morning-20-2/2027-06-15
LOCATION:St Ninian’s Church\, 10 Vicars Road\, Stonehouse\, ML9 3EB\, United Kingdom
CATEGORIES:coffee morning,community
ATTACH;FMTTYPE=image/png:https://www.st-ninians-stonehouse.org.uk/wp-content/uploads/2023/04/coffee-morning-Video-2.png
END:VEVENT
BEGIN:VEVENT
DTSTART;TZID=Europe/London:20270617T190000
DTEND;TZID=Europe/London:20270617T220000
DTSTAMP:20260420T004442
CREATED:20230816T103057Z
LAST-MODIFIED:20251229T164502Z
UID:10002962-1813258800-1813269600@www.st-ninians-stonehouse.org.uk
SUMMARY:Hope Cafe Too
DESCRIPTION:A Peer Support group facilitated by Jenna Hardwood of Lene on Me.
URL:https://www.st-ninians-stonehouse.org.uk/event/hope-cafe-too-5/2027-06-17
CATEGORIES:community,mental health
ATTACH;FMTTYPE=image/png:https://www.st-ninians-stonehouse.org.uk/wp-content/uploads/2023/08/Hope-Cafe-Video.png
END:VEVENT
BEGIN:VEVENT
DTSTART;TZID=Europe/London:20270622T100000
DTEND;TZID=Europe/London:20270622T113000
DTSTAMP:20260420T004442
CREATED:20241231T153422Z
LAST-MODIFIED:20251211T143636Z
UID:10003966-1813658400-1813663800@www.st-ninians-stonehouse.org.uk
SUMMARY:Coffee Morning
DESCRIPTION:Coffee (and tea)\, cakes and chat!
URL:https://www.st-ninians-stonehouse.org.uk/event/coffee-morning-20-2/2027-06-22
LOCATION:St Ninian’s Church\, 10 Vicars Road\, Stonehouse\, ML9 3EB\, United Kingdom
CATEGORIES:coffee morning,community
ATTACH;FMTTYPE=image/png:https://www.st-ninians-stonehouse.org.uk/wp-content/uploads/2023/04/coffee-morning-Video-2.png
END:VEVENT
BEGIN:VEVENT
DTSTART;TZID=Europe/London:20270629T100000
DTEND;TZID=Europe/London:20270629T113000
DTSTAMP:20260420T004442
CREATED:20241231T153422Z
LAST-MODIFIED:20251211T143636Z
UID:10003967-1814263200-1814268600@www.st-ninians-stonehouse.org.uk
SUMMARY:Coffee Morning
DESCRIPTION:Coffee (and tea)\, cakes and chat!
URL:https://www.st-ninians-stonehouse.org.uk/event/coffee-morning-20-2/2027-06-29
LOCATION:St Ninian’s Church\, 10 Vicars Road\, Stonehouse\, ML9 3EB\, United Kingdom
CATEGORIES:coffee morning,community
ATTACH;FMTTYPE=image/png:https://www.st-ninians-stonehouse.org.uk/wp-content/uploads/2023/04/coffee-morning-Video-2.png
END:VEVENT
BEGIN:VEVENT
DTSTART;TZID=Europe/London:20270701T190000
DTEND;TZID=Europe/London:20270701T220000
DTSTAMP:20260420T004442
CREATED:20230816T103057Z
LAST-MODIFIED:20251229T164502Z
UID:10002963-1814468400-1814479200@www.st-ninians-stonehouse.org.uk
SUMMARY:Hope Cafe Too
DESCRIPTION:A Peer Support group facilitated by Jenna Hardwood of Lene on Me.
URL:https://www.st-ninians-stonehouse.org.uk/event/hope-cafe-too-5/2027-07-01
CATEGORIES:community,mental health
ATTACH;FMTTYPE=image/png:https://www.st-ninians-stonehouse.org.uk/wp-content/uploads/2023/08/Hope-Cafe-Video.png
END:VEVENT
BEGIN:VEVENT
DTSTART;TZID=Europe/London:20270706T100000
DTEND;TZID=Europe/London:20270706T113000
DTSTAMP:20260420T004442
CREATED:20241231T153422Z
LAST-MODIFIED:20251211T143636Z
UID:10003968-1814868000-1814873400@www.st-ninians-stonehouse.org.uk
SUMMARY:Coffee Morning
DESCRIPTION:Coffee (and tea)\, cakes and chat!
URL:https://www.st-ninians-stonehouse.org.uk/event/coffee-morning-20-2/2027-07-06
LOCATION:St Ninian’s Church\, 10 Vicars Road\, Stonehouse\, ML9 3EB\, United Kingdom
CATEGORIES:coffee morning,community
ATTACH;FMTTYPE=image/png:https://www.st-ninians-stonehouse.org.uk/wp-content/uploads/2023/04/coffee-morning-Video-2.png
END:VEVENT
BEGIN:VEVENT
DTSTART;TZID=Europe/London:20270713T100000
DTEND;TZID=Europe/London:20270713T113000
DTSTAMP:20260420T004442
CREATED:20241231T153422Z
LAST-MODIFIED:20251211T143636Z
UID:10003969-1815472800-1815478200@www.st-ninians-stonehouse.org.uk
SUMMARY:Coffee Morning
DESCRIPTION:Coffee (and tea)\, cakes and chat!
URL:https://www.st-ninians-stonehouse.org.uk/event/coffee-morning-20-2/2027-07-13
LOCATION:St Ninian’s Church\, 10 Vicars Road\, Stonehouse\, ML9 3EB\, United Kingdom
CATEGORIES:coffee morning,community
ATTACH;FMTTYPE=image/png:https://www.st-ninians-stonehouse.org.uk/wp-content/uploads/2023/04/coffee-morning-Video-2.png
END:VEVENT
BEGIN:VEVENT
DTSTART;TZID=Europe/London:20270715T190000
DTEND;TZID=Europe/London:20270715T220000
DTSTAMP:20260420T004442
CREATED:20230816T103057Z
LAST-MODIFIED:20251229T164502Z
UID:10002964-1815678000-1815688800@www.st-ninians-stonehouse.org.uk
SUMMARY:Hope Cafe Too
DESCRIPTION:A Peer Support group facilitated by Jenna Hardwood of Lene on Me.
URL:https://www.st-ninians-stonehouse.org.uk/event/hope-cafe-too-5/2027-07-15
CATEGORIES:community,mental health
ATTACH;FMTTYPE=image/png:https://www.st-ninians-stonehouse.org.uk/wp-content/uploads/2023/08/Hope-Cafe-Video.png
END:VEVENT
BEGIN:VEVENT
DTSTART;TZID=Europe/London:20270720T100000
DTEND;TZID=Europe/London:20270720T113000
DTSTAMP:20260420T004442
CREATED:20241231T153422Z
LAST-MODIFIED:20251211T143636Z
UID:10003970-1816077600-1816083000@www.st-ninians-stonehouse.org.uk
SUMMARY:Coffee Morning
DESCRIPTION:Coffee (and tea)\, cakes and chat!
URL:https://www.st-ninians-stonehouse.org.uk/event/coffee-morning-20-2/2027-07-20
LOCATION:St Ninian’s Church\, 10 Vicars Road\, Stonehouse\, ML9 3EB\, United Kingdom
CATEGORIES:coffee morning,community
ATTACH;FMTTYPE=image/png:https://www.st-ninians-stonehouse.org.uk/wp-content/uploads/2023/04/coffee-morning-Video-2.png
END:VEVENT
BEGIN:VEVENT
DTSTART;TZID=Europe/London:20270727T100000
DTEND;TZID=Europe/London:20270727T113000
DTSTAMP:20260420T004442
CREATED:20241231T153422Z
LAST-MODIFIED:20251211T143636Z
UID:10003971-1816682400-1816687800@www.st-ninians-stonehouse.org.uk
SUMMARY:Coffee Morning
DESCRIPTION:Coffee (and tea)\, cakes and chat!
URL:https://www.st-ninians-stonehouse.org.uk/event/coffee-morning-20-2/2027-07-27
LOCATION:St Ninian’s Church\, 10 Vicars Road\, Stonehouse\, ML9 3EB\, United Kingdom
CATEGORIES:coffee morning,community
ATTACH;FMTTYPE=image/png:https://www.st-ninians-stonehouse.org.uk/wp-content/uploads/2023/04/coffee-morning-Video-2.png
END:VEVENT
BEGIN:VEVENT
DTSTART;TZID=Europe/London:20270729T190000
DTEND;TZID=Europe/London:20270729T220000
DTSTAMP:20260420T004442
CREATED:20230816T103057Z
LAST-MODIFIED:20251229T164502Z
UID:10002965-1816887600-1816898400@www.st-ninians-stonehouse.org.uk
SUMMARY:Hope Cafe Too
DESCRIPTION:A Peer Support group facilitated by Jenna Hardwood of Lene on Me.
URL:https://www.st-ninians-stonehouse.org.uk/event/hope-cafe-too-5/2027-07-29
CATEGORIES:community,mental health
ATTACH;FMTTYPE=image/png:https://www.st-ninians-stonehouse.org.uk/wp-content/uploads/2023/08/Hope-Cafe-Video.png
END:VEVENT
END:VCALENDAR