BEGIN:VCALENDAR
VERSION:2.0
PRODID:-//St Ninian&#039;s Church Stonehouse LEP - ECPv6.15.18//NONSGML v1.0//EN
CALSCALE:GREGORIAN
METHOD:PUBLISH
X-ORIGINAL-URL:https://www.st-ninians-stonehouse.org.uk
X-WR-CALDESC:Events for St Ninian&#039;s Church Stonehouse LEP
REFRESH-INTERVAL;VALUE=DURATION:PT1H
X-Robots-Tag:noindex
X-PUBLISHED-TTL:PT1H
BEGIN:VTIMEZONE
TZID:Europe/London
BEGIN:DAYLIGHT
TZOFFSETFROM:+0000
TZOFFSETTO:+0100
TZNAME:BST
DTSTART:20270328T010000
END:DAYLIGHT
BEGIN:STANDARD
TZOFFSETFROM:+0100
TZOFFSETTO:+0000
TZNAME:GMT
DTSTART:20271031T010000
END:STANDARD
BEGIN:DAYLIGHT
TZOFFSETFROM:+0000
TZOFFSETTO:+0100
TZNAME:BST
DTSTART:20280326T010000
END:DAYLIGHT
BEGIN:STANDARD
TZOFFSETFROM:+0100
TZOFFSETTO:+0000
TZNAME:GMT
DTSTART:20281029T010000
END:STANDARD
BEGIN:DAYLIGHT
TZOFFSETFROM:+0000
TZOFFSETTO:+0100
TZNAME:BST
DTSTART:20290325T010000
END:DAYLIGHT
BEGIN:STANDARD
TZOFFSETFROM:+0100
TZOFFSETTO:+0000
TZNAME:GMT
DTSTART:20291028T010000
END:STANDARD
END:VTIMEZONE
BEGIN:VEVENT
DTSTART;TZID=Europe/London:20281013T193000
DTEND;TZID=Europe/London:20281013T223000
DTSTAMP:20260422T112236
CREATED:20240220T122519Z
LAST-MODIFIED:20240220T122519Z
UID:10003539-1855078200-1855089000@www.st-ninians-stonehouse.org.uk
SUMMARY:Folk Club
DESCRIPTION:Stonehouse Folk Club
URL:https://www.st-ninians-stonehouse.org.uk/event/folk-club-3/2028-10-13
LOCATION:St Ninian’s Church\, 10 Vicars Road\, Stonehouse\, ML9 3EB\, United Kingdom
CATEGORIES:Music
END:VEVENT
END:VCALENDAR